BEGIN:VCALENDAR
VERSION:2.0
PRODID:-//spbstu.ru//ical//RU
NAME:Расписание
X-WR-CALNAME:Расписание
TIMEZONE-ID:Europe/Moscow
X-WR-TIMEZONE:Europe/Moscow
BEGIN:VEVENT
UID:7gtc@192.168.245.71:3006
SEQUENCE:0
DTSTAMP:20260424T130138Z
DTSTART:20251212T153000Z
DTEND:20251212T170000Z
SUMMARY:Базы данных
LOCATION:DL Дистанционно
END:VEVENT
BEGIN:VEVENT
UID:7sq3@192.168.245.71:3006
SEQUENCE:0
DTSTAMP:20260424T130138Z
DTSTART:20251212T171500Z
DTEND:20251212T184500Z
SUMMARY:Базы данных
LOCATION:DL Дистанционно
END:VEVENT
END:VCALENDAR