BEGIN:VCALENDAR
VERSION:2.0
PRODID:-//spbstu.ru//ical//RU
NAME:Расписание
X-WR-CALNAME:Расписание
TIMEZONE-ID:Europe/Moscow
X-WR-TIMEZONE:Europe/Moscow
BEGIN:VEVENT
UID:mx6i@192.168.245.71:3006
SEQUENCE:0
DTSTAMP:20260423T041721Z
DTSTART:20260122T153000Z
DTEND:20260122T160000Z
SUMMARY:Базы данных
LOCATION:DL Дистанционно
END:VEVENT
BEGIN:VEVENT
UID:hyba@192.168.245.71:3006
SEQUENCE:0
DTSTAMP:20260423T041721Z
DTSTART:20260122T160100Z
DTEND:20260122T173000Z
SUMMARY:Базы данных
LOCATION:DL Дистанционно
END:VEVENT
END:VCALENDAR