BEGIN:VCALENDAR
VERSION:2.0
PRODID:-//spbstu.ru//ical//RU
NAME:Расписание
X-WR-CALNAME:Расписание
TIMEZONE-ID:Europe/Moscow
X-WR-TIMEZONE:Europe/Moscow
BEGIN:VEVENT
UID:plfe@192.168.245.71:3006
SEQUENCE:0
DTSTAMP:20260425T225318Z
DTSTART:20250916T070000Z
DTEND:20250916T084000Z
SUMMARY:Медиапланирование
LOCATION:16 к. 509
END:VEVENT
BEGIN:VEVENT
UID:mpr5@192.168.245.71:3006
SEQUENCE:0
DTSTAMP:20260425T225318Z
DTSTART:20250916T090000Z
DTEND:20250916T104000Z
SUMMARY:Медиапланирование
LOCATION:16 к. 509
END:VEVENT
BEGIN:VEVENT
UID:4ecd@192.168.245.71:3006
SEQUENCE:0
DTSTAMP:20260425T225318Z
DTSTART:20250916T110000Z
DTEND:20250916T124000Z
SUMMARY:Медиапланирование
LOCATION:16 к. 509
END:VEVENT
BEGIN:VEVENT
UID:pv7y@192.168.245.71:3006
SEQUENCE:0
DTSTAMP:20260425T225318Z
DTSTART:20250916T130000Z
DTEND:20250916T144000Z
SUMMARY:Медиапланирование
LOCATION:16 к. 200
END:VEVENT
BEGIN:VEVENT
UID:kjbc@192.168.245.71:3006
SEQUENCE:0
DTSTAMP:20260425T225318Z
DTSTART:20250918T070000Z
DTEND:20250918T084000Z
SUMMARY:Медиапланирование
LOCATION:16 к. 509
END:VEVENT
BEGIN:VEVENT
UID:12yo@192.168.245.71:3006
SEQUENCE:0
DTSTAMP:20260425T225318Z
DTSTART:20250918T090000Z
DTEND:20250918T104000Z
SUMMARY:Медиапланирование
LOCATION:16 к. 509
END:VEVENT
END:VCALENDAR