BEGIN:VCALENDAR
VERSION:2.0
PRODID:-//spbstu.ru//ical//RU
NAME:Расписание
X-WR-CALNAME:Расписание
TIMEZONE-ID:Europe/Moscow
X-WR-TIMEZONE:Europe/Moscow
BEGIN:VEVENT
UID:dr0s@192.168.245.71:3006
SEQUENCE:0
DTSTAMP:20260424T205841Z
DTSTART:20251208T110000Z
DTEND:20251208T124000Z
SUMMARY:Оценка и управление стоимостью бизнеса
LOCATION:50 уч.к 1325
END:VEVENT
BEGIN:VEVENT
UID:jcnm@192.168.245.71:3006
SEQUENCE:0
DTSTAMP:20260424T205841Z
DTSTART:20251208T130000Z
DTEND:20251208T144000Z
SUMMARY:Оценка и управление стоимостью бизнеса
LOCATION:50 уч.к 1250
END:VEVENT
BEGIN:VEVENT
UID:ih2y@192.168.245.71:3006
SEQUENCE:0
DTSTAMP:20260424T205841Z
DTSTART:20251209T070000Z
DTEND:20251209T084000Z
SUMMARY:Социально-экономическая статистика
LOCATION:50 уч.к 1204
END:VEVENT
BEGIN:VEVENT
UID:9w84@192.168.245.71:3006
SEQUENCE:0
DTSTAMP:20260424T205841Z
DTSTART:20251209T110000Z
DTEND:20251209T124000Z
SUMMARY:Управленческий учет
LOCATION:50 уч.к 1326
END:VEVENT
BEGIN:VEVENT
UID:lhwl@192.168.245.71:3006
SEQUENCE:0
DTSTAMP:20260424T205841Z
DTSTART:20251210T140000Z
DTEND:20251210T144500Z
SUMMARY:Научно-исследовательская работа
LOCATION:DL Дистанционно
END:VEVENT
BEGIN:VEVENT
UID:khs4@192.168.245.71:3006
SEQUENCE:0
DTSTAMP:20260424T205841Z
DTSTART:20251211T110000Z
DTEND:20251211T124000Z
SUMMARY:Оценка и управление стоимостью бизнеса
LOCATION:50 уч.к 1112
END:VEVENT
BEGIN:VEVENT
UID:iypz@192.168.245.71:3006
SEQUENCE:0
DTSTAMP:20260424T205841Z
DTSTART:20251212T070000Z
DTEND:20251212T084000Z
SUMMARY:Оценка и управление стоимостью бизнеса
LOCATION:50 уч.к 1112
END:VEVENT
END:VCALENDAR