BEGIN:VCALENDAR
VERSION:2.0
PRODID:-//spbstu.ru//ical//RU
NAME:Расписание
X-WR-CALNAME:Расписание
TIMEZONE-ID:Europe/Moscow
X-WR-TIMEZONE:Europe/Moscow
BEGIN:VEVENT
UID:yr74@192.168.245.71:3006
SEQUENCE:0
DTSTAMP:20260422T203551Z
DTSTART:20260302T050000Z
DTEND:20260302T064000Z
SUMMARY:Финансовый менеджмент
LOCATION:50 уч.к 1107
END:VEVENT
BEGIN:VEVENT
UID:a3a3@192.168.245.71:3006
SEQUENCE:0
DTSTAMP:20260422T203551Z
DTSTART:20260302T070000Z
DTEND:20260302T084000Z
SUMMARY:Финансовый менеджмент
LOCATION:50 уч.к 1204
END:VEVENT
BEGIN:VEVENT
UID:9hbg@192.168.245.71:3006
SEQUENCE:0
DTSTAMP:20260422T203551Z
DTSTART:20260302T153000Z
DTEND:20260302T170000Z
SUMMARY:Оценка и управление стоимостью бизнеса
LOCATION:DL Дистанционно
END:VEVENT
BEGIN:VEVENT
UID:ark0@192.168.245.71:3006
SEQUENCE:0
DTSTAMP:20260422T203551Z
DTSTART:20260302T171500Z
DTEND:20260302T184500Z
SUMMARY:Оценка и управление стоимостью бизнеса
LOCATION:DL Дистанционно
END:VEVENT
BEGIN:VEVENT
UID:6n2l@192.168.245.71:3006
SEQUENCE:0
DTSTAMP:20260422T203551Z
DTSTART:20260303T130000Z
DTEND:20260303T144000Z
SUMMARY:Финансовый менеджмент
LOCATION:50 уч.к 1204
END:VEVENT
BEGIN:VEVENT
UID:s99r@192.168.245.71:3006
SEQUENCE:0
DTSTAMP:20260422T203551Z
DTSTART:20260304T110000Z
DTEND:20260304T124000Z
SUMMARY:Мировая экономика
LOCATION:50 уч.к 1423
END:VEVENT
BEGIN:VEVENT
UID:11vo@192.168.245.71:3006
SEQUENCE:0
DTSTAMP:20260422T203551Z
DTSTART:20260304T130000Z
DTEND:20260304T144000Z
SUMMARY:Мировая экономика
LOCATION:50 уч.к 1423
END:VEVENT
BEGIN:VEVENT
UID:5zty@192.168.245.71:3006
SEQUENCE:0
DTSTAMP:20260422T203551Z
DTSTART:20260306T090000Z
DTEND:20260306T104000Z
SUMMARY:Мировая экономика
LOCATION:50 уч.к 1331
END:VEVENT
BEGIN:VEVENT
UID:3atu@192.168.245.71:3006
SEQUENCE:0
DTSTAMP:20260422T203551Z
DTSTART:20260306T110000Z
DTEND:20260306T124000Z
SUMMARY:Мировая экономика
LOCATION:50 уч.к 1111
END:VEVENT
BEGIN:VEVENT
UID:7xb3@192.168.245.71:3006
SEQUENCE:0
DTSTAMP:20260422T203551Z
DTSTART:20260306T153000Z
DTEND:20260306T170000Z
SUMMARY:Оценка и управление стоимостью бизнеса
LOCATION:DL Дистанционно
END:VEVENT
BEGIN:VEVENT
UID:m80e@192.168.245.71:3006
SEQUENCE:0
DTSTAMP:20260422T203551Z
DTSTART:20260306T171500Z
DTEND:20260306T184500Z
SUMMARY:Оценка и управление стоимостью бизнеса
LOCATION:DL Дистанционно
END:VEVENT
END:VCALENDAR