BEGIN:VCALENDAR
VERSION:2.0
PRODID:-//spbstu.ru//ical//RU
NAME:Расписание
X-WR-CALNAME:Расписание
TIMEZONE-ID:Europe/Moscow
X-WR-TIMEZONE:Europe/Moscow
BEGIN:VEVENT
UID:fxcs@192.168.245.71:3006
SEQUENCE:0
DTSTAMP:20260423T214028Z
DTSTART:20251224T070000Z
DTEND:20251224T084000Z
SUMMARY:Высшая математика
LOCATION:ГК-2 312
END:VEVENT
BEGIN:VEVENT
UID:0g2o@192.168.245.71:3006
SEQUENCE:0
DTSTAMP:20260423T214028Z
DTSTART:20251224T090000Z
DTEND:20251224T103000Z
SUMMARY:Высшая математика
LOCATION:ГЗ 181
END:VEVENT
BEGIN:VEVENT
UID:j0pn@192.168.245.71:3006
SEQUENCE:0
DTSTAMP:20260423T214028Z
DTSTART:20251224T110000Z
DTEND:20251224T123000Z
SUMMARY:Высшая математика
LOCATION:ГЗ 181
END:VEVENT
END:VCALENDAR