BEGIN:VCALENDAR
VERSION:2.0
PRODID:-//spbstu.ru//ical//RU
NAME:Расписание
X-WR-CALNAME:Расписание
TIMEZONE-ID:Europe/Moscow
X-WR-TIMEZONE:Europe/Moscow
BEGIN:VEVENT
UID:x1i2@192.168.245.71:3006
SEQUENCE:0
DTSTAMP:20260422T045539Z
DTSTART:20260202T090000Z
DTEND:20260202T104000Z
SUMMARY:Высшая математика
LOCATION:3 к. 208
END:VEVENT
BEGIN:VEVENT
UID:hort@192.168.245.71:3006
SEQUENCE:0
DTSTAMP:20260422T045539Z
DTSTART:20260202T110000Z
DTEND:20260202T124000Z
SUMMARY:Высшая математика
LOCATION:ГЗ 219
END:VEVENT
BEGIN:VEVENT
UID:dtmh@192.168.245.71:3006
SEQUENCE:0
DTSTAMP:20260422T045539Z
DTSTART:20260202T130000Z
DTEND:20260202T144000Z
SUMMARY:Высшая математика
LOCATION:ГЗ 219
END:VEVENT
BEGIN:VEVENT
UID:6jck@192.168.245.71:3006
SEQUENCE:0
DTSTAMP:20260422T045539Z
DTSTART:20260203T130000Z
DTEND:20260203T144000Z
SUMMARY:Высшая математика
LOCATION:3 к. 209
END:VEVENT
BEGIN:VEVENT
UID:e13b@192.168.245.71:3006
SEQUENCE:0
DTSTAMP:20260422T045539Z
DTSTART:20260204T090000Z
DTEND:20260204T104000Z
SUMMARY:Высшая математика
LOCATION:ГЗ 219
END:VEVENT
BEGIN:VEVENT
UID:hnw8@192.168.245.71:3006
SEQUENCE:0
DTSTAMP:20260422T045539Z
DTSTART:20260204T110000Z
DTEND:20260204T124000Z
SUMMARY:Высшая математика
LOCATION:ГК 230
END:VEVENT
BEGIN:VEVENT
UID:ots6@192.168.245.71:3006
SEQUENCE:0
DTSTAMP:20260422T045539Z
DTSTART:20260207T110000Z
DTEND:20260207T124000Z
SUMMARY:Высшая математика
LOCATION:3 к. 206
END:VEVENT
END:VCALENDAR