BEGIN:VCALENDAR
VERSION:2.0
PRODID:-//spbstu.ru//ical//RU
NAME:Расписание
X-WR-CALNAME:Расписание
TIMEZONE-ID:Europe/Moscow
X-WR-TIMEZONE:Europe/Moscow
BEGIN:VEVENT
UID:ced9@192.168.245.71:3006
SEQUENCE:0
DTSTAMP:20260422T234355Z
DTSTART:20251201T090000Z
DTEND:20251201T104000Z
SUMMARY:История России
LOCATION:1 к. 435
END:VEVENT
BEGIN:VEVENT
UID:dl65@192.168.245.71:3006
SEQUENCE:0
DTSTAMP:20260422T234355Z
DTSTART:20251201T110000Z
DTEND:20251201T124000Z
SUMMARY:История России
LOCATION:ГЗ 107
END:VEVENT
BEGIN:VEVENT
UID:2zdh@192.168.245.71:3006
SEQUENCE:0
DTSTAMP:20260422T234355Z
DTSTART:20251202T070000Z
DTEND:20251202T084000Z
SUMMARY:История России
LOCATION:ГЗ 152
END:VEVENT
BEGIN:VEVENT
UID:u8k4@192.168.245.71:3006
SEQUENCE:0
DTSTAMP:20260422T234355Z
DTSTART:20251202T090000Z
DTEND:20251202T104000Z
SUMMARY:История России
LOCATION:ГЗ 224
END:VEVENT
BEGIN:VEVENT
UID:5sia@192.168.245.71:3006
SEQUENCE:0
DTSTAMP:20260422T234355Z
DTSTART:20251202T090000Z
DTEND:20251202T104000Z
SUMMARY:История России
LOCATION:ГЗ 224
END:VEVENT
BEGIN:VEVENT
UID:vgt3@192.168.245.71:3006
SEQUENCE:0
DTSTAMP:20260422T234355Z
DTSTART:20251202T110000Z
DTEND:20251202T124000Z
SUMMARY:История России
LOCATION:1 к. 413
END:VEVENT
BEGIN:VEVENT
UID:wtfj@192.168.245.71:3006
SEQUENCE:0
DTSTAMP:20260422T234355Z
DTSTART:20251203T090000Z
DTEND:20251203T104000Z
SUMMARY:История России
LOCATION:ГЗ 153
END:VEVENT
BEGIN:VEVENT
UID:qkun@192.168.245.71:3006
SEQUENCE:0
DTSTAMP:20260422T234355Z
DTSTART:20251203T090000Z
DTEND:20251203T104000Z
SUMMARY:История России
LOCATION:ГЗ 153
END:VEVENT
BEGIN:VEVENT
UID:59kw@192.168.245.71:3006
SEQUENCE:0
DTSTAMP:20260422T234355Z
DTSTART:20251203T110000Z
DTEND:20251203T124000Z
SUMMARY:История России
LOCATION:ГЗ 153
END:VEVENT
BEGIN:VEVENT
UID:0enq@192.168.245.71:3006
SEQUENCE:0
DTSTAMP:20260422T234355Z
DTSTART:20251203T110000Z
DTEND:20251203T124000Z
SUMMARY:История России
LOCATION:ГЗ 153
END:VEVENT
BEGIN:VEVENT
UID:ndgg@192.168.245.71:3006
SEQUENCE:0
DTSTAMP:20260422T234355Z
DTSTART:20251204T090000Z
DTEND:20251204T104000Z
SUMMARY:История России
LOCATION:1 к. 41
END:VEVENT
BEGIN:VEVENT
UID:yho7@192.168.245.71:3006
SEQUENCE:0
DTSTAMP:20260422T234355Z
DTSTART:20251204T090000Z
DTEND:20251204T104000Z
SUMMARY:История России
LOCATION:1 к. 41
END:VEVENT
BEGIN:VEVENT
UID:z13w@192.168.245.71:3006
SEQUENCE:0
DTSTAMP:20260422T234355Z
DTSTART:20251205T070000Z
DTEND:20251205T084000Z
SUMMARY:История России
LOCATION:Хим. к. 51
END:VEVENT
BEGIN:VEVENT
UID:55da@192.168.245.71:3006
SEQUENCE:0
DTSTAMP:20260422T234355Z
DTSTART:20251205T070000Z
DTEND:20251205T084000Z
SUMMARY:История России
LOCATION:Хим. к. 51
END:VEVENT
BEGIN:VEVENT
UID:oqq8@192.168.245.71:3006
SEQUENCE:0
DTSTAMP:20260422T234355Z
DTSTART:20251205T090000Z
DTEND:20251205T104000Z
SUMMARY:История России
LOCATION:Хим. к. 51
END:VEVENT
BEGIN:VEVENT
UID:tnpb@192.168.245.71:3006
SEQUENCE:0
DTSTAMP:20260422T234355Z
DTSTART:20251205T090000Z
DTEND:20251205T104000Z
SUMMARY:История России
LOCATION:Хим. к. 51
END:VEVENT
BEGIN:VEVENT
UID:64n2@192.168.245.71:3006
SEQUENCE:0
DTSTAMP:20260422T234355Z
DTSTART:20251205T130000Z
DTEND:20251205T144000Z
SUMMARY:История России
LOCATION:ГК 438
END:VEVENT
END:VCALENDAR