BEGIN:VCALENDAR
VERSION:2.0
PRODID:-//spbstu.ru//ical//RU
NAME:Расписание
X-WR-CALNAME:Расписание
TIMEZONE-ID:Europe/Moscow
X-WR-TIMEZONE:Europe/Moscow
BEGIN:VEVENT
UID:dl7a@192.168.245.71:3006
SEQUENCE:0
DTSTAMP:20260422T073816Z
DTSTART:20260305T050000Z
DTEND:20260305T064000Z
SUMMARY:Архитектура
LOCATION:ГК-2 310
END:VEVENT
BEGIN:VEVENT
UID:hz11@192.168.245.71:3006
SEQUENCE:0
DTSTAMP:20260422T073816Z
DTSTART:20260307T090000Z
DTEND:20260307T104000Z
SUMMARY:Архитектура
LOCATION:ГК-2 310
END:VEVENT
END:VCALENDAR