BEGIN:VCALENDAR
VERSION:2.0
PRODID:-//spbstu.ru//ical//RU
NAME:Расписание
X-WR-CALNAME:Расписание
TIMEZONE-ID:Europe/Moscow
X-WR-TIMEZONE:Europe/Moscow
BEGIN:VEVENT
UID:i270@192.168.245.71:3006
SEQUENCE:0
DTSTAMP:20260420T201216Z
DTSTART:20260413T110000Z
DTEND:20260413T124000Z
SUMMARY:Архитектурно-дизайнерское проектирование
LOCATION:НИК В2.22 (1)
END:VEVENT
BEGIN:VEVENT
UID:7i21@192.168.245.71:3006
SEQUENCE:0
DTSTAMP:20260420T201216Z
DTSTART:20260413T130000Z
DTEND:20260413T135000Z
SUMMARY:Архитектурно-дизайнерское проектирование
LOCATION:НИК В2.22 (1)
END:VEVENT
BEGIN:VEVENT
UID:raww@192.168.245.71:3006
SEQUENCE:0
DTSTAMP:20260420T201216Z
DTSTART:20260414T060000Z
DTEND:20260414T065000Z
SUMMARY:Архитектурно-дизайнерское проектирование
LOCATION:НИК В2.22 (1)
END:VEVENT
BEGIN:VEVENT
UID:fuaf@192.168.245.71:3006
SEQUENCE:0
DTSTAMP:20260420T201216Z
DTSTART:20260414T070000Z
DTEND:20260414T084000Z
SUMMARY:Архитектурно-дизайнерское проектирование
LOCATION:НИК В2.22 (1)
END:VEVENT
BEGIN:VEVENT
UID:xm3q@192.168.245.71:3006
SEQUENCE:0
DTSTAMP:20260420T201216Z
DTSTART:20260414T090000Z
DTEND:20260414T104000Z
SUMMARY:Строительные конструкции в комплексном проектировании архитектурны
 х объектов
LOCATION:ГК-2 412
END:VEVENT
BEGIN:VEVENT
UID:wtsg@192.168.245.71:3006
SEQUENCE:0
DTSTAMP:20260420T201216Z
DTSTART:20260414T110000Z
DTEND:20260414T124000Z
SUMMARY:Строительные конструкции в комплексном проектировании архитектурны
 х объектов
LOCATION:ГК-2 302
END:VEVENT
BEGIN:VEVENT
UID:rusm@192.168.245.71:3006
SEQUENCE:0
DTSTAMP:20260420T201216Z
DTSTART:20260414T130000Z
DTEND:20260414T144000Z
SUMMARY:Строительные конструкции в комплексном проектировании архитектурны
 х объектов
LOCATION:ГК-2 412
END:VEVENT
BEGIN:VEVENT
UID:4sck@192.168.245.71:3006
SEQUENCE:0
DTSTAMP:20260420T201216Z
DTSTART:20260415T090000Z
DTEND:20260415T104000Z
SUMMARY:Строительные конструкции в комплексном проектировании архитектурны
 х объектов
LOCATION:ГЗ 211
END:VEVENT
BEGIN:VEVENT
UID:5yn6@192.168.245.71:3006
SEQUENCE:0
DTSTAMP:20260420T201216Z
DTSTART:20260415T110000Z
DTEND:20260415T124000Z
SUMMARY:Архитектурно-дизайнерское проектирование
LOCATION:НИК В2.22 (1)
END:VEVENT
BEGIN:VEVENT
UID:e2z5@192.168.245.71:3006
SEQUENCE:0
DTSTAMP:20260420T201216Z
DTSTART:20260415T130000Z
DTEND:20260415T135000Z
SUMMARY:Архитектурно-дизайнерское проектирование
LOCATION:НИК В2.22 (1)
END:VEVENT
BEGIN:VEVENT
UID:z2wl@192.168.245.71:3006
SEQUENCE:0
DTSTAMP:20260420T201216Z
DTSTART:20260416T070000Z
DTEND:20260416T084000Z
SUMMARY:Архитектурно-дизайнерское проектирование
LOCATION:НИК В2.22 (1)
END:VEVENT
BEGIN:VEVENT
UID:cvvr@192.168.245.71:3006
SEQUENCE:0
DTSTAMP:20260420T201216Z
DTSTART:20260416T090000Z
DTEND:20260416T095000Z
SUMMARY:Архитектурно-дизайнерское проектирование
LOCATION:НИК В2.22 (1)
END:VEVENT
BEGIN:VEVENT
UID:n52u@192.168.245.71:3006
SEQUENCE:0
DTSTAMP:20260420T201216Z
DTSTART:20260416T110000Z
DTEND:20260416T124000Z
SUMMARY:Архитектурная физика
LOCATION:ГЗ 303 (1)
END:VEVENT
END:VCALENDAR