BEGIN:VCALENDAR
VERSION:2.0
PRODID:-//spbstu.ru//ical//RU
NAME:Расписание
X-WR-CALNAME:Расписание
TIMEZONE-ID:Europe/Moscow
X-WR-TIMEZONE:Europe/Moscow
BEGIN:VEVENT
UID:1sym@192.168.245.71:3006
SEQUENCE:0
DTSTAMP:20260420T201104Z
DTSTART:20260504T110000Z
DTEND:20260504T124000Z
SUMMARY:Архитектурно-дизайнерское проектирование
LOCATION:НИК В2.22 (1)
END:VEVENT
BEGIN:VEVENT
UID:sde9@192.168.245.71:3006
SEQUENCE:0
DTSTAMP:20260420T201104Z
DTSTART:20260504T130000Z
DTEND:20260504T135000Z
SUMMARY:Архитектурно-дизайнерское проектирование
LOCATION:НИК В2.22 (1)
END:VEVENT
BEGIN:VEVENT
UID:zjb6@192.168.245.71:3006
SEQUENCE:0
DTSTAMP:20260420T201104Z
DTSTART:20260505T060000Z
DTEND:20260505T065000Z
SUMMARY:Архитектурно-дизайнерское проектирование
LOCATION:НИК В2.22 (1)
END:VEVENT
BEGIN:VEVENT
UID:w4k1@192.168.245.71:3006
SEQUENCE:0
DTSTAMP:20260420T201104Z
DTSTART:20260505T070000Z
DTEND:20260505T084000Z
SUMMARY:Архитектурно-дизайнерское проектирование
LOCATION:НИК В2.22 (1)
END:VEVENT
BEGIN:VEVENT
UID:0c7n@192.168.245.71:3006
SEQUENCE:0
DTSTAMP:20260420T201104Z
DTSTART:20260505T090000Z
DTEND:20260505T104000Z
SUMMARY:Строительные конструкции в комплексном проектировании архитектурны
 х объектов
LOCATION:ГК-2 412
END:VEVENT
BEGIN:VEVENT
UID:a6yf@192.168.245.71:3006
SEQUENCE:0
DTSTAMP:20260420T201104Z
DTSTART:20260505T110000Z
DTEND:20260505T124000Z
SUMMARY:Строительные конструкции в комплексном проектировании архитектурны
 х объектов
LOCATION:ГК-2 412
END:VEVENT
BEGIN:VEVENT
UID:uw0z@192.168.245.71:3006
SEQUENCE:0
DTSTAMP:20260420T201104Z
DTSTART:20260505T130000Z
DTEND:20260505T144000Z
SUMMARY:Строительные конструкции в комплексном проектировании архитектурны
 х объектов
LOCATION:ГК-2 412
END:VEVENT
BEGIN:VEVENT
UID:wgqu@192.168.245.71:3006
SEQUENCE:0
DTSTAMP:20260420T201104Z
DTSTART:20260506T090000Z
DTEND:20260506T104000Z
SUMMARY:Строительные конструкции в комплексном проектировании архитектурны
 х объектов
LOCATION:ГЗ 211
END:VEVENT
BEGIN:VEVENT
UID:0a17@192.168.245.71:3006
SEQUENCE:0
DTSTAMP:20260420T201104Z
DTSTART:20260506T110000Z
DTEND:20260506T124000Z
SUMMARY:Архитектурно-дизайнерское проектирование
LOCATION:НИК В2.22 (1)
END:VEVENT
BEGIN:VEVENT
UID:m58b@192.168.245.71:3006
SEQUENCE:0
DTSTAMP:20260420T201104Z
DTSTART:20260506T130000Z
DTEND:20260506T135000Z
SUMMARY:Архитектурно-дизайнерское проектирование
LOCATION:НИК В2.22 (1)
END:VEVENT
BEGIN:VEVENT
UID:i90g@192.168.245.71:3006
SEQUENCE:0
DTSTAMP:20260420T201104Z
DTSTART:20260507T070000Z
DTEND:20260507T084000Z
SUMMARY:Архитектурно-дизайнерское проектирование
LOCATION:НИК В2.22 (1)
END:VEVENT
BEGIN:VEVENT
UID:jb4s@192.168.245.71:3006
SEQUENCE:0
DTSTAMP:20260420T201104Z
DTSTART:20260507T090000Z
DTEND:20260507T095000Z
SUMMARY:Архитектурно-дизайнерское проектирование
LOCATION:НИК В2.22 (1)
END:VEVENT
BEGIN:VEVENT
UID:2tut@192.168.245.71:3006
SEQUENCE:0
DTSTAMP:20260420T201104Z
DTSTART:20260507T110000Z
DTEND:20260507T124000Z
SUMMARY:Архитектурная физика
LOCATION:ГЗ 303 (1)
END:VEVENT
BEGIN:VEVENT
UID:3br1@192.168.245.71:3006
SEQUENCE:0
DTSTAMP:20260420T201104Z
DTSTART:20260507T130000Z
DTEND:20260507T144000Z
SUMMARY:Основы проектной деятельности
LOCATION:ГЗ 284
END:VEVENT
BEGIN:VEVENT
UID:at92@192.168.245.71:3006
SEQUENCE:0
DTSTAMP:20260420T201104Z
DTSTART:20260508T070000Z
DTEND:20260508T084000Z
SUMMARY:Архитектура
LOCATION:ГК-2 412
END:VEVENT
BEGIN:VEVENT
UID:45vx@192.168.245.71:3006
SEQUENCE:0
DTSTAMP:20260420T201104Z
DTSTART:20260508T090000Z
DTEND:20260508T104000Z
SUMMARY:Архитектура
LOCATION:ГК-2 412
END:VEVENT
END:VCALENDAR