BEGIN:VCALENDAR
VERSION:2.0
PRODID:-//spbstu.ru//ical//RU
NAME:Расписание
X-WR-CALNAME:Расписание
TIMEZONE-ID:Europe/Moscow
X-WR-TIMEZONE:Europe/Moscow
BEGIN:VEVENT
UID:un5n@192.168.245.71:3006
SEQUENCE:0
DTSTAMP:20260425T172305Z
DTSTART:20250916T070000Z
DTEND:20250916T084000Z
SUMMARY:Железобетонные конструкции
LOCATION:ГК-2 401
END:VEVENT
BEGIN:VEVENT
UID:xked@192.168.245.71:3006
SEQUENCE:0
DTSTAMP:20260425T172305Z
DTSTART:20250916T090000Z
DTEND:20250916T104000Z
SUMMARY:Железобетонные конструкции
LOCATION:ГК-2 203а
END:VEVENT
BEGIN:VEVENT
UID:1prw@192.168.245.71:3006
SEQUENCE:0
DTSTAMP:20260425T172305Z
DTSTART:20250916T110000Z
DTEND:20250916T124000Z
SUMMARY:Железобетонные конструкции
LOCATION:ГК-2 203а
END:VEVENT
END:VCALENDAR