BEGIN:VCALENDAR
VERSION:2.0
PRODID:-//spbstu.ru//ical//RU
NAME:Расписание
X-WR-CALNAME:Расписание
TIMEZONE-ID:Europe/Moscow
X-WR-TIMEZONE:Europe/Moscow
BEGIN:VEVENT
UID:oy57@192.168.245.71:3006
SEQUENCE:0
DTSTAMP:20260421T215330Z
DTSTART:20260317T110000Z
DTEND:20260317T124000Z
SUMMARY:Инженерное оборудование в объектах ландшафтной архитектуры
LOCATION:ГК-2 412
END:VEVENT
BEGIN:VEVENT
UID:fwij@192.168.245.71:3006
SEQUENCE:0
DTSTAMP:20260421T215330Z
DTSTART:20260318T070000Z
DTEND:20260318T084000Z
SUMMARY:Информатика
LOCATION:ГК-2 506
END:VEVENT
BEGIN:VEVENT
UID:56ay@192.168.245.71:3006
SEQUENCE:0
DTSTAMP:20260421T215330Z
DTSTART:20260318T090000Z
DTEND:20260318T104000Z
SUMMARY:Информатика
LOCATION:ГК-2 506
END:VEVENT
BEGIN:VEVENT
UID:x7t8@192.168.245.71:3006
SEQUENCE:0
DTSTAMP:20260421T215330Z
DTSTART:20260318T110000Z
DTEND:20260318T124000Z
SUMMARY:Информатика
LOCATION:ГК-2 506
END:VEVENT
BEGIN:VEVENT
UID:8mjp@192.168.245.71:3006
SEQUENCE:0
DTSTAMP:20260421T215330Z
DTSTART:20260319T090000Z
DTEND:20260319T104000Z
SUMMARY:Информатика
LOCATION:ГК-2 506
END:VEVENT
BEGIN:VEVENT
UID:mm6i@192.168.245.71:3006
SEQUENCE:0
DTSTAMP:20260421T215330Z
DTSTART:20260319T110000Z
DTEND:20260319T124000Z
SUMMARY:Информатика
LOCATION:ГК-2 506
END:VEVENT
BEGIN:VEVENT
UID:iumz@192.168.245.71:3006
SEQUENCE:0
DTSTAMP:20260421T215330Z
DTSTART:20260320T090000Z
DTEND:20260320T104000Z
SUMMARY:Цифровые технологии в строительстве
LOCATION:ГК-2 406
END:VEVENT
BEGIN:VEVENT
UID:kn03@192.168.245.71:3006
SEQUENCE:0
DTSTAMP:20260421T215330Z
DTSTART:20260320T110000Z
DTEND:20260320T124000Z
SUMMARY:Информатика
LOCATION:ГК-2 506
END:VEVENT
END:VCALENDAR