BEGIN:VCALENDAR
VERSION:2.0
PRODID:-//spbstu.ru//ical//RU
NAME:Расписание
X-WR-CALNAME:Расписание
TIMEZONE-ID:Europe/Moscow
X-WR-TIMEZONE:Europe/Moscow
BEGIN:VEVENT
UID:qawk@192.168.245.71:3006
SEQUENCE:0
DTSTAMP:20260421T051447Z
DTSTART:20260421T070000Z
DTEND:20260421T084000Z
SUMMARY:Анализ данных в строительстве
LOCATION:ГК-2 514
END:VEVENT
BEGIN:VEVENT
UID:ow58@192.168.245.71:3006
SEQUENCE:0
DTSTAMP:20260421T051447Z
DTSTART:20260421T090000Z
DTEND:20260421T104000Z
SUMMARY:Анализ данных в строительстве
LOCATION:ГК-2 514
END:VEVENT
BEGIN:VEVENT
UID:dvhu@192.168.245.71:3006
SEQUENCE:0
DTSTAMP:20260421T051447Z
DTSTART:20260422T070000Z
DTEND:20260422T084000Z
SUMMARY:Информатика
LOCATION:ГК-2 506
END:VEVENT
BEGIN:VEVENT
UID:q4gl@192.168.245.71:3006
SEQUENCE:0
DTSTAMP:20260421T051447Z
DTSTART:20260422T090000Z
DTEND:20260422T104000Z
SUMMARY:Информатика
LOCATION:ГК-2 506
END:VEVENT
BEGIN:VEVENT
UID:4swo@192.168.245.71:3006
SEQUENCE:0
DTSTAMP:20260421T051447Z
DTSTART:20260422T110000Z
DTEND:20260422T124000Z
SUMMARY:Информатика
LOCATION:ГК-2 506
END:VEVENT
BEGIN:VEVENT
UID:yj7z@192.168.245.71:3006
SEQUENCE:0
DTSTAMP:20260421T051447Z
DTSTART:20260423T070000Z
DTEND:20260423T084000Z
SUMMARY:Инженерное оборудование в объектах ландшафтной архитектуры
LOCATION:ГЗ 303 (1)
END:VEVENT
BEGIN:VEVENT
UID:utsn@192.168.245.71:3006
SEQUENCE:0
DTSTAMP:20260421T051447Z
DTSTART:20260423T110000Z
DTEND:20260423T124000Z
SUMMARY:Инженерное оборудование в объектах ландшафтной архитектуры
LOCATION:ГЗ 303 (2)
END:VEVENT
BEGIN:VEVENT
UID:v18y@192.168.245.71:3006
SEQUENCE:0
DTSTAMP:20260421T051447Z
DTSTART:20260424T090000Z
DTEND:20260424T104000Z
SUMMARY:Цифровые технологии в строительстве
LOCATION:ГК-2 203а
END:VEVENT
BEGIN:VEVENT
UID:o5so@192.168.245.71:3006
SEQUENCE:0
DTSTAMP:20260421T051447Z
DTSTART:20260424T130000Z
DTEND:20260424T144000Z
SUMMARY:Цифровые технологии в строительстве
LOCATION:ГК-2 404
END:VEVENT
END:VCALENDAR