BEGIN:VCALENDAR
VERSION:2.0
PRODID:-//spbstu.ru//ical//RU
NAME:Расписание
X-WR-CALNAME:Расписание
TIMEZONE-ID:Europe/Moscow
X-WR-TIMEZONE:Europe/Moscow
BEGIN:VEVENT
UID:78tn@192.168.245.71:3006
SEQUENCE:0
DTSTAMP:20260422T190448Z
DTSTART:20260122T070000Z
DTEND:20260122T084000Z
SUMMARY:Дизайн-проектирование
LOCATION:ГЗ 303 (3)
END:VEVENT
BEGIN:VEVENT
UID:fz09@192.168.245.71:3006
SEQUENCE:0
DTSTAMP:20260422T190448Z
DTSTART:20260122T090000Z
DTEND:20260122T140000Z
SUMMARY:Дизайн-проектирование
LOCATION:ГЗ 303 (3)
END:VEVENT
BEGIN:VEVENT
UID:4zfm@192.168.245.71:3006
SEQUENCE:0
DTSTAMP:20260422T190448Z
DTSTART:20260123T070000Z
DTEND:20260123T120000Z
SUMMARY:Дизайн-проектирование
LOCATION:ГЗ 303 (3)
END:VEVENT
END:VCALENDAR