BEGIN:VCALENDAR
VERSION:2.0
PRODID:-//spbstu.ru//ical//RU
NAME:Расписание
X-WR-CALNAME:Расписание
TIMEZONE-ID:Europe/Moscow
X-WR-TIMEZONE:Europe/Moscow
BEGIN:VEVENT
UID:u44o@192.168.245.71:3006
SEQUENCE:0
DTSTAMP:20260424T233912Z
DTSTART:20251029T110000Z
DTEND:20251029T124000Z
SUMMARY:Эргономика в промышленном дизайне
LOCATION:ГЗ 303 (1)
END:VEVENT
BEGIN:VEVENT
UID:xuor@192.168.245.71:3006
SEQUENCE:0
DTSTAMP:20260424T233912Z
DTSTART:20251029T153000Z
DTEND:20251029T171000Z
SUMMARY:Основы дизайн-проектирования
LOCATION:ГЗ 303 (5)
END:VEVENT
BEGIN:VEVENT
UID:15fi@192.168.245.71:3006
SEQUENCE:0
DTSTAMP:20260424T233912Z
DTSTART:20251030T153000Z
DTEND:20251030T171000Z
SUMMARY:Дизайн-проектирование
LOCATION:ГЗ 303 (6)
END:VEVENT
END:VCALENDAR