BEGIN:VCALENDAR
VERSION:2.0
PRODID:-//spbstu.ru//ical//RU
NAME:Расписание
X-WR-CALNAME:Расписание
TIMEZONE-ID:Europe/Moscow
X-WR-TIMEZONE:Europe/Moscow
BEGIN:VEVENT
UID:gkuo@192.168.245.71:3006
SEQUENCE:0
DTSTAMP:20260424T220843Z
DTSTART:20251125T070000Z
DTEND:20251125T084000Z
SUMMARY:Линейная алгебра и аналитическая геометрия
LOCATION:2 к. 359
END:VEVENT
BEGIN:VEVENT
UID:9333@192.168.245.71:3006
SEQUENCE:0
DTSTAMP:20260424T220843Z
DTSTART:20251125T090000Z
DTEND:20251125T104000Z
SUMMARY:Линейная алгебра и аналитическая геометрия
LOCATION:ГЗ 256
END:VEVENT
BEGIN:VEVENT
UID:vhwg@192.168.245.71:3006
SEQUENCE:0
DTSTAMP:20260424T220843Z
DTSTART:20251125T110000Z
DTEND:20251125T124000Z
SUMMARY:Линейная алгебра и аналитическая геометрия
LOCATION:НИК В2.18
END:VEVENT
BEGIN:VEVENT
UID:jueq@192.168.245.71:3006
SEQUENCE:0
DTSTAMP:20260424T220843Z
DTSTART:20251126T070000Z
DTEND:20251126T084000Z
SUMMARY:Математический анализ
LOCATION:НИК В2.04
END:VEVENT
BEGIN:VEVENT
UID:18mx@192.168.245.71:3006
SEQUENCE:0
DTSTAMP:20260424T220843Z
DTSTART:20251126T090000Z
DTEND:20251126T104000Z
SUMMARY:Линейная алгебра и аналитическая геометрия
LOCATION:НИК В2.04
END:VEVENT
BEGIN:VEVENT
UID:gj1j@192.168.245.71:3006
SEQUENCE:0
DTSTAMP:20260424T220843Z
DTSTART:20251126T110000Z
DTEND:20251126T124000Z
SUMMARY:Линейная алгебра и аналитическая геометрия
LOCATION:2 к. 431
END:VEVENT
BEGIN:VEVENT
UID:thut@192.168.245.71:3006
SEQUENCE:0
DTSTAMP:20260424T220843Z
DTSTART:20251128T070000Z
DTEND:20251128T084000Z
SUMMARY:Высшая математика
LOCATION:ГК-2 401
END:VEVENT
BEGIN:VEVENT
UID:kowq@192.168.245.71:3006
SEQUENCE:0
DTSTAMP:20260424T220843Z
DTSTART:20251128T090000Z
DTEND:20251128T104000Z
SUMMARY:Математический анализ
LOCATION:2 к. 224
END:VEVENT
BEGIN:VEVENT
UID:yr22@192.168.245.71:3006
SEQUENCE:0
DTSTAMP:20260424T220843Z
DTSTART:20251128T110000Z
DTEND:20251128T124000Z
SUMMARY:Линейная алгебра и аналитическая геометрия
LOCATION:2 к. 458
END:VEVENT
END:VCALENDAR