BEGIN:VCALENDAR
VERSION:2.0
PRODID:-//spbstu.ru//ical//RU
NAME:Расписание
X-WR-CALNAME:Расписание
TIMEZONE-ID:Europe/Moscow
X-WR-TIMEZONE:Europe/Moscow
BEGIN:VEVENT
UID:eici@192.168.245.71:3006
SEQUENCE:0
DTSTAMP:20260421T173518Z
DTSTART:20260126T110000Z
DTEND:20260126T124000Z
SUMMARY:Высшая математика
LOCATION:ГЗ 207
END:VEVENT
BEGIN:VEVENT
UID:wsvb@192.168.245.71:3006
SEQUENCE:0
DTSTAMP:20260421T173518Z
DTSTART:20260128T070000Z
DTEND:20260128T104000Z
SUMMARY:Высшая математика
LOCATION:ГЗ 122
END:VEVENT
END:VCALENDAR