BEGIN:VCALENDAR
VERSION:2.0
PRODID:-//spbstu.ru//ical//RU
NAME:Расписание
X-WR-CALNAME:Расписание
TIMEZONE-ID:Europe/Moscow
X-WR-TIMEZONE:Europe/Moscow
BEGIN:VEVENT
UID:s7pp@192.168.245.71:3006
SEQUENCE:0
DTSTAMP:20260425T225305Z
DTSTART:20250913T070000Z
DTEND:20250913T084000Z
SUMMARY:Бизнес-планирование в строительстве
LOCATION:ГК-2 412
END:VEVENT
BEGIN:VEVENT
UID:yohu@192.168.245.71:3006
SEQUENCE:0
DTSTAMP:20260425T225305Z
DTSTART:20250913T090000Z
DTEND:20250913T104000Z
SUMMARY:Бизнес-планирование в строительстве
LOCATION:ГК-2 412
END:VEVENT
END:VCALENDAR