BEGIN:VCALENDAR
VERSION:2.0
PRODID:-//spbstu.ru//ical//RU
NAME:Расписание
X-WR-CALNAME:Расписание
TIMEZONE-ID:Europe/Moscow
X-WR-TIMEZONE:Europe/Moscow
BEGIN:VEVENT
UID:enje@192.168.245.71:3006
SEQUENCE:0
DTSTAMP:20260423T093559Z
DTSTART:20251117T150000Z
DTEND:20251117T164000Z
SUMMARY:Управление продажами
LOCATION:50 уч.к 1104
END:VEVENT
BEGIN:VEVENT
UID:xcfv@192.168.245.71:3006
SEQUENCE:0
DTSTAMP:20260423T093559Z
DTSTART:20251117T170000Z
DTEND:20251117T184000Z
SUMMARY:Управление продажами
LOCATION:50 уч.к 1104
END:VEVENT
BEGIN:VEVENT
UID:k2x6@192.168.245.71:3006
SEQUENCE:0
DTSTAMP:20260423T093559Z
DTSTART:20251118T090000Z
DTEND:20251118T104000Z
SUMMARY:Копирайтинг и управление контентом
LOCATION:50 уч.к 1323
END:VEVENT
BEGIN:VEVENT
UID:xy5c@192.168.245.71:3006
SEQUENCE:0
DTSTAMP:20260423T093559Z
DTSTART:20251118T153000Z
DTEND:20251118T170000Z
SUMMARY:Карьерная адаптивность
LOCATION:DL Дистанционно
END:VEVENT
BEGIN:VEVENT
UID:qxyw@192.168.245.71:3006
SEQUENCE:0
DTSTAMP:20260423T093559Z
DTSTART:20251118T153000Z
DTEND:20251118T170000Z
SUMMARY:Карьерная адаптивность
LOCATION:DL Дистанционно
END:VEVENT
BEGIN:VEVENT
UID:al4a@192.168.245.71:3006
SEQUENCE:0
DTSTAMP:20260423T093559Z
DTSTART:20251118T171500Z
DTEND:20251118T184500Z
SUMMARY:Карьерная адаптивность
LOCATION:DL Дистанционно
END:VEVENT
BEGIN:VEVENT
UID:p9r6@192.168.245.71:3006
SEQUENCE:0
DTSTAMP:20260423T093559Z
DTSTART:20251118T171500Z
DTEND:20251118T184500Z
SUMMARY:Карьерная адаптивность
LOCATION:DL Дистанционно
END:VEVENT
BEGIN:VEVENT
UID:3eh9@192.168.245.71:3006
SEQUENCE:0
DTSTAMP:20260423T093559Z
DTSTART:20251121T090000Z
DTEND:20251121T104000Z
SUMMARY:Управление инновациями
LOCATION:50 уч.к 1432
END:VEVENT
BEGIN:VEVENT
UID:y9l8@192.168.245.71:3006
SEQUENCE:0
DTSTAMP:20260423T093559Z
DTSTART:20251121T110000Z
DTEND:20251121T124000Z
SUMMARY:Управление инновациями
LOCATION:50 уч.к 1248
END:VEVENT
END:VCALENDAR