BEGIN:VCALENDAR
VERSION:2.0
PRODID:-//spbstu.ru//ical//RU
NAME:Расписание
X-WR-CALNAME:Расписание
TIMEZONE-ID:Europe/Moscow
X-WR-TIMEZONE:Europe/Moscow
BEGIN:VEVENT
UID:0o8d@192.168.245.71:3006
SEQUENCE:0
DTSTAMP:20260422T085616Z
DTSTART:20260224T070000Z
DTEND:20260224T084000Z
SUMMARY:Международный маркетинг менеджмент
LOCATION:50 уч.к 1326
END:VEVENT
BEGIN:VEVENT
UID:psjk@192.168.245.71:3006
SEQUENCE:0
DTSTAMP:20260422T085616Z
DTSTART:20260224T110000Z
DTEND:20260224T124000Z
SUMMARY:Международный маркетинг менеджмент
LOCATION:50 уч.к 1104
END:VEVENT
BEGIN:VEVENT
UID:wewe@192.168.245.71:3006
SEQUENCE:0
DTSTAMP:20260422T085616Z
DTSTART:20260226T153000Z
DTEND:20260226T170000Z
SUMMARY:Образовательный форсайт
LOCATION:50 уч.к 21002
END:VEVENT
BEGIN:VEVENT
UID:rbft@192.168.245.71:3006
SEQUENCE:0
DTSTAMP:20260422T085616Z
DTSTART:20260226T153000Z
DTEND:20260226T170000Z
SUMMARY:Управление продажами
LOCATION:50 уч.к 21002
END:VEVENT
END:VCALENDAR