BEGIN:VCALENDAR
VERSION:2.0
PRODID:-//spbstu.ru//ical//RU
NAME:Расписание
X-WR-CALNAME:Расписание
TIMEZONE-ID:Europe/Moscow
X-WR-TIMEZONE:Europe/Moscow
BEGIN:VEVENT
UID:l7l0@192.168.245.71:3006
SEQUENCE:0
DTSTAMP:20260422T000116Z
DTSTART:20260317T070000Z
DTEND:20260317T084000Z
SUMMARY:Международный маркетинг менеджмент
LOCATION:50 уч.к 1326
END:VEVENT
BEGIN:VEVENT
UID:359k@192.168.245.71:3006
SEQUENCE:0
DTSTAMP:20260422T000116Z
DTSTART:20260317T110000Z
DTEND:20260317T124000Z
SUMMARY:Международный маркетинг менеджмент
LOCATION:50 уч.к 1104
END:VEVENT
BEGIN:VEVENT
UID:zl2r@192.168.245.71:3006
SEQUENCE:0
DTSTAMP:20260422T000116Z
DTSTART:20260317T150000Z
DTEND:20260317T164000Z
SUMMARY:Маркетинг инноваций
LOCATION:50 уч.к 1204
END:VEVENT
BEGIN:VEVENT
UID:ig0c@192.168.245.71:3006
SEQUENCE:0
DTSTAMP:20260422T000116Z
DTSTART:20260317T170000Z
DTEND:20260317T184000Z
SUMMARY:Маркетинг инноваций
LOCATION:50 уч.к 1204
END:VEVENT
BEGIN:VEVENT
UID:cdyn@192.168.245.71:3006
SEQUENCE:0
DTSTAMP:20260422T000116Z
DTSTART:20260318T110000Z
DTEND:20260318T124000Z
SUMMARY:Карьерная адаптивность: Практики современного маркетинга
LOCATION:50 уч.к 1341
END:VEVENT
BEGIN:VEVENT
UID:wdtl@192.168.245.71:3006
SEQUENCE:0
DTSTAMP:20260422T000116Z
DTSTART:20260318T153000Z
DTEND:20260318T170000Z
SUMMARY:Карьерная адаптивность: Практики современного маркетинга
LOCATION:DL Дистанционно
END:VEVENT
BEGIN:VEVENT
UID:ljoh@192.168.245.71:3006
SEQUENCE:0
DTSTAMP:20260422T000116Z
DTSTART:20260318T153000Z
DTEND:20260318T170000Z
SUMMARY:Карьерная адаптивность: Практики современного маркетинга
LOCATION:DL Дистанционно
END:VEVENT
END:VCALENDAR