BEGIN:VCALENDAR
VERSION:2.0
PRODID:-//spbstu.ru//ical//RU
NAME:Расписание
X-WR-CALNAME:Расписание
TIMEZONE-ID:Europe/Moscow
X-WR-TIMEZONE:Europe/Moscow
BEGIN:VEVENT
UID:kzo6@192.168.245.71:3006
SEQUENCE:0
DTSTAMP:20260421T090532Z
DTSTART:20260414T150000Z
DTEND:20260414T164000Z
SUMMARY:Маркетинг инноваций
LOCATION:50 уч.к 1204
END:VEVENT
BEGIN:VEVENT
UID:l79u@192.168.245.71:3006
SEQUENCE:0
DTSTAMP:20260421T090532Z
DTSTART:20260414T170000Z
DTEND:20260414T184000Z
SUMMARY:Маркетинг инноваций
LOCATION:50 уч.к 1204
END:VEVENT
BEGIN:VEVENT
UID:xd57@192.168.245.71:3006
SEQUENCE:0
DTSTAMP:20260421T090532Z
DTSTART:20260415T110000Z
DTEND:20260415T124000Z
SUMMARY:Карьерная адаптивность: Практики современного маркетинга
LOCATION:50 уч.к 1341
END:VEVENT
BEGIN:VEVENT
UID:n9go@192.168.245.71:3006
SEQUENCE:0
DTSTAMP:20260421T090532Z
DTSTART:20260416T153000Z
DTEND:20260416T170000Z
SUMMARY:Промышленный маркетинг менеджмент
LOCATION:DL Дистанционно
END:VEVENT
BEGIN:VEVENT
UID:w2n6@192.168.245.71:3006
SEQUENCE:0
DTSTAMP:20260421T090532Z
DTSTART:20260416T171500Z
DTEND:20260416T184500Z
SUMMARY:Промышленный маркетинг менеджмент
LOCATION:DL Дистанционно
END:VEVENT
END:VCALENDAR