BEGIN:VCALENDAR
VERSION:2.0
PRODID:-//spbstu.ru//ical//RU
NAME:Расписание
X-WR-CALNAME:Расписание
TIMEZONE-ID:Europe/Moscow
X-WR-TIMEZONE:Europe/Moscow
BEGIN:VEVENT
UID:mdqj@192.168.245.71:3006
SEQUENCE:0
DTSTAMP:20260421T072816Z
DTSTART:20260420T150000Z
DTEND:20260420T164000Z
SUMMARY:Управление инновационным проектом
LOCATION:50 уч.к 1336
END:VEVENT
BEGIN:VEVENT
UID:f6b3@192.168.245.71:3006
SEQUENCE:0
DTSTAMP:20260421T072816Z
DTSTART:20260421T150000Z
DTEND:20260421T164000Z
SUMMARY:Маркетинг инноваций
LOCATION:50 уч.к 1204
END:VEVENT
BEGIN:VEVENT
UID:ok8c@192.168.245.71:3006
SEQUENCE:0
DTSTAMP:20260421T072816Z
DTSTART:20260423T153000Z
DTEND:20260423T170000Z
SUMMARY:Карьерная адаптивность: Практики современного маркетинга
LOCATION:DL Дистанционно
END:VEVENT
BEGIN:VEVENT
UID:62b2@192.168.245.71:3006
SEQUENCE:0
DTSTAMP:20260421T072816Z
DTSTART:20260423T153000Z
DTEND:20260423T170000Z
SUMMARY:Карьерная адаптивность: Практики современного маркетинга
LOCATION:DL Дистанционно
END:VEVENT
END:VCALENDAR