BEGIN:VCALENDAR
VERSION:2.0
PRODID:-//spbstu.ru//ical//RU
NAME:Расписание
X-WR-CALNAME:Расписание
TIMEZONE-ID:Europe/Moscow
X-WR-TIMEZONE:Europe/Moscow
BEGIN:VEVENT
UID:vfjl@192.168.245.71:3006
SEQUENCE:0
DTSTAMP:20260421T090533Z
DTSTART:20260428T153000Z
DTEND:20260428T170000Z
SUMMARY:Карьерная адаптивность: Практики современного маркетинга
LOCATION:DL Дистанционно
END:VEVENT
BEGIN:VEVENT
UID:1j29@192.168.245.71:3006
SEQUENCE:0
DTSTAMP:20260421T090533Z
DTSTART:20260428T153000Z
DTEND:20260428T170000Z
SUMMARY:Карьерная адаптивность: Практики современного маркетинга
LOCATION:DL Дистанционно
END:VEVENT
BEGIN:VEVENT
UID:hlt3@192.168.245.71:3006
SEQUENCE:0
DTSTAMP:20260421T090533Z
DTSTART:20260429T110000Z
DTEND:20260429T124000Z
SUMMARY:Карьерная адаптивность: Практики современного маркетинга
LOCATION:50 уч.к 1341
END:VEVENT
END:VCALENDAR