BEGIN:VCALENDAR
VERSION:2.0
PRODID:-//spbstu.ru//ical//RU
NAME:Расписание
X-WR-CALNAME:Расписание
TIMEZONE-ID:Europe/Moscow
X-WR-TIMEZONE:Europe/Moscow
BEGIN:VEVENT
UID:6jr8@192.168.245.71:3006
SEQUENCE:0
DTSTAMP:20260424T084454Z
DTSTART:20251117T110000Z
DTEND:20251117T124000Z
SUMMARY:Новые цифровые системы управления
LOCATION:3 к. 402
END:VEVENT
BEGIN:VEVENT
UID:4ptn@192.168.245.71:3006
SEQUENCE:0
DTSTAMP:20260424T084454Z
DTSTART:20251117T130000Z
DTEND:20251117T144000Z
SUMMARY:Новые цифровые системы управления
LOCATION:3 к. 402
END:VEVENT
BEGIN:VEVENT
UID:b793@192.168.245.71:3006
SEQUENCE:0
DTSTAMP:20260424T084454Z
DTSTART:20251118T110000Z
DTEND:20251118T124000Z
SUMMARY:Цифровые ресурсы в научном исследовании
LOCATION:3 к. 511
END:VEVENT
BEGIN:VEVENT
UID:j7p5@192.168.245.71:3006
SEQUENCE:0
DTSTAMP:20260424T084454Z
DTSTART:20251118T130000Z
DTEND:20251118T144000Z
SUMMARY:Цифровые ресурсы в научном исследовании
LOCATION:3 к. 511
END:VEVENT
BEGIN:VEVENT
UID:ib70@192.168.245.71:3006
SEQUENCE:0
DTSTAMP:20260424T084454Z
DTSTART:20251119T090000Z
DTEND:20251119T104000Z
SUMMARY:Управление разработкой аппаратно-программных комплексов
LOCATION:3 к. 303
END:VEVENT
END:VCALENDAR