BEGIN:VCALENDAR
VERSION:2.0
PRODID:-//spbstu.ru//ical//RU
NAME:Расписание
X-WR-CALNAME:Расписание
TIMEZONE-ID:Europe/Moscow
X-WR-TIMEZONE:Europe/Moscow
BEGIN:VEVENT
UID:ylak@192.168.245.71:3006
SEQUENCE:0
DTSTAMP:20260426T004631Z
DTSTART:20250915T110000Z
DTEND:20250915T124000Z
SUMMARY:Новые цифровые системы управления
LOCATION:3 к. 402
END:VEVENT
BEGIN:VEVENT
UID:xvoa@192.168.245.71:3006
SEQUENCE:0
DTSTAMP:20260426T004631Z
DTSTART:20250915T130000Z
DTEND:20250915T144000Z
SUMMARY:Новые цифровые системы управления
LOCATION:3 к. 402
END:VEVENT
BEGIN:VEVENT
UID:0a5k@192.168.245.71:3006
SEQUENCE:0
DTSTAMP:20260426T004631Z
DTSTART:20250916T110000Z
DTEND:20250916T124000Z
SUMMARY:Цифровые ресурсы в научном исследовании
LOCATION:3 к. 511
END:VEVENT
BEGIN:VEVENT
UID:arkn@192.168.245.71:3006
SEQUENCE:0
DTSTAMP:20260426T004631Z
DTSTART:20250916T130000Z
DTEND:20250916T144000Z
SUMMARY:Цифровые ресурсы в научном исследовании
LOCATION:3 к. 511
END:VEVENT
END:VCALENDAR