BEGIN:VCALENDAR
VERSION:2.0
PRODID:-//spbstu.ru//ical//RU
NAME:Расписание
X-WR-CALNAME:Расписание
TIMEZONE-ID:Europe/Moscow
X-WR-TIMEZONE:Europe/Moscow
BEGIN:VEVENT
UID:qmrp@192.168.245.71:3006
SEQUENCE:0
DTSTAMP:20260422T032213Z
DTSTART:20260321T070000Z
DTEND:20260321T084000Z
SUMMARY:SCADA-системы в машиностроении
LOCATION:1 к. кафедра Автоматы
END:VEVENT
BEGIN:VEVENT
UID:49nh@192.168.245.71:3006
SEQUENCE:0
DTSTAMP:20260422T032213Z
DTSTART:20260321T090000Z
DTEND:20260321T104000Z
SUMMARY:SCADA-системы в машиностроении
LOCATION:ГЗ 153
END:VEVENT
END:VCALENDAR