BEGIN:VCALENDAR
VERSION:2.0
PRODID:-//spbstu.ru//ical//RU
NAME:Расписание
X-WR-CALNAME:Расписание
TIMEZONE-ID:Europe/Moscow
X-WR-TIMEZONE:Europe/Moscow
BEGIN:VEVENT
UID:27lx@192.168.245.71:3006
SEQUENCE:0
DTSTAMP:20260423T062504Z
DTSTART:20251124T060000Z
DTEND:20251124T084000Z
SUMMARY:Иностранный язык: Русский язык как иностранный
LOCATION:1 к. 422
END:VEVENT
BEGIN:VEVENT
UID:gbxc@192.168.245.71:3006
SEQUENCE:0
DTSTAMP:20260423T062504Z
DTSTART:20251124T060000Z
DTEND:20251124T074000Z
SUMMARY:Иностранный язык: Русский язык как иностранный
LOCATION:1 к. 422
END:VEVENT
BEGIN:VEVENT
UID:g7js@192.168.245.71:3006
SEQUENCE:0
DTSTAMP:20260423T062504Z
DTSTART:20251124T110000Z
DTEND:20251124T124000Z
SUMMARY:Практический курс первого иностранного языка
LOCATION:9 к. 329
END:VEVENT
BEGIN:VEVENT
UID:nsb2@192.168.245.71:3006
SEQUENCE:0
DTSTAMP:20260423T062504Z
DTSTART:20251124T130000Z
DTEND:20251124T144000Z
SUMMARY:Практический курс первого иностранного языка
LOCATION:9 к. 329
END:VEVENT
BEGIN:VEVENT
UID:h6f7@192.168.245.71:3006
SEQUENCE:0
DTSTAMP:20260423T062504Z
DTSTART:20251126T050000Z
DTEND:20251126T064000Z
SUMMARY:Иностранный язык: Русский язык как иностранный
LOCATION:9 к. 212
END:VEVENT
BEGIN:VEVENT
UID:kaly@192.168.245.71:3006
SEQUENCE:0
DTSTAMP:20260423T062504Z
DTSTART:20251126T050000Z
DTEND:20251126T064000Z
SUMMARY:Иностранный язык: Русский язык как иностранный
LOCATION:9 к. 212
END:VEVENT
BEGIN:VEVENT
UID:a38u@192.168.245.71:3006
SEQUENCE:0
DTSTAMP:20260423T062504Z
DTSTART:20251126T050000Z
DTEND:20251126T064000Z
SUMMARY:Иностранный язык: Русский язык как иностранный
LOCATION:9 к. 212
END:VEVENT
BEGIN:VEVENT
UID:ldg6@192.168.245.71:3006
SEQUENCE:0
DTSTAMP:20260423T062504Z
DTSTART:20251126T050000Z
DTEND:20251126T064000Z
SUMMARY:Иностранный язык: Русский язык как иностранный
LOCATION:9 к. 212
END:VEVENT
BEGIN:VEVENT
UID:u2pn@192.168.245.71:3006
SEQUENCE:0
DTSTAMP:20260423T062504Z
DTSTART:20251126T050000Z
DTEND:20251126T064000Z
SUMMARY:Иностранный язык: Русский язык как иностранный
LOCATION:9 к. 212
END:VEVENT
BEGIN:VEVENT
UID:rrte@192.168.245.71:3006
SEQUENCE:0
DTSTAMP:20260423T062504Z
DTSTART:20251126T070000Z
DTEND:20251126T084000Z
SUMMARY:Иностранный язык: Русский язык как иностранный
LOCATION:9 к. 212
END:VEVENT
BEGIN:VEVENT
UID:0c0t@192.168.245.71:3006
SEQUENCE:0
DTSTAMP:20260423T062504Z
DTSTART:20251127T050000Z
DTEND:20251127T064000Z
SUMMARY:Иностранный язык: Русский язык как иностранный
LOCATION:9 к. 216
END:VEVENT
BEGIN:VEVENT
UID:glpl@192.168.245.71:3006
SEQUENCE:0
DTSTAMP:20260423T062504Z
DTSTART:20251127T050000Z
DTEND:20251127T064000Z
SUMMARY:Иностранный язык: Русский язык как иностранный
LOCATION:9 к. 216
END:VEVENT
BEGIN:VEVENT
UID:6afd@192.168.245.71:3006
SEQUENCE:0
DTSTAMP:20260423T062504Z
DTSTART:20251127T090000Z
DTEND:20251127T104000Z
SUMMARY:Иностранный язык: Русский язык как иностранный
LOCATION:9 к. 508
END:VEVENT
BEGIN:VEVENT
UID:ds7j@192.168.245.71:3006
SEQUENCE:0
DTSTAMP:20260423T062504Z
DTSTART:20251128T050000Z
DTEND:20251128T064000Z
SUMMARY:Иностранный язык: Русский язык как иностранный
LOCATION:16 к. 214
END:VEVENT
BEGIN:VEVENT
UID:aoo8@192.168.245.71:3006
SEQUENCE:0
DTSTAMP:20260423T062504Z
DTSTART:20251128T050000Z
DTEND:20251128T064000Z
SUMMARY:Иностранный язык: Русский язык как иностранный
LOCATION:16 к. 214
END:VEVENT
BEGIN:VEVENT
UID:sdoq@192.168.245.71:3006
SEQUENCE:0
DTSTAMP:20260423T062504Z
DTSTART:20251128T050000Z
DTEND:20251128T064000Z
SUMMARY:Иностранный язык: Русский язык как иностранный
LOCATION:16 к. 214
END:VEVENT
BEGIN:VEVENT
UID:8ksr@192.168.245.71:3006
SEQUENCE:0
DTSTAMP:20260423T062504Z
DTSTART:20251128T070000Z
DTEND:20251128T084000Z
SUMMARY:Иностранный язык: Русский язык как иностранный
LOCATION:9 к. 212
END:VEVENT
BEGIN:VEVENT
UID:1ybx@192.168.245.71:3006
SEQUENCE:0
DTSTAMP:20260423T062504Z
DTSTART:20251128T090000Z
DTEND:20251128T104000Z
SUMMARY:Практический курс первого иностранного языка
LOCATION:9 к. 333
END:VEVENT
BEGIN:VEVENT
UID:kb0q@192.168.245.71:3006
SEQUENCE:0
DTSTAMP:20260423T062504Z
DTSTART:20251129T060000Z
DTEND:20251129T083000Z
SUMMARY:Иностранный язык: Русский язык как иностранный
LOCATION:ГЗ 229
END:VEVENT
BEGIN:VEVENT
UID:0mvv@192.168.245.71:3006
SEQUENCE:0
DTSTAMP:20260423T062504Z
DTSTART:20251129T060000Z
DTEND:20251129T084000Z
SUMMARY:Иностранный язык: Русский язык как иностранный
LOCATION:ГЗ 229
END:VEVENT
BEGIN:VEVENT
UID:r8dw@192.168.245.71:3006
SEQUENCE:0
DTSTAMP:20260423T062504Z
DTSTART:20251129T060000Z
DTEND:20251129T084000Z
SUMMARY:Иностранный язык: Русский язык как иностранный
LOCATION:ГЗ 229
END:VEVENT
BEGIN:VEVENT
UID:z57h@192.168.245.71:3006
SEQUENCE:0
DTSTAMP:20260423T062504Z
DTSTART:20251129T060000Z
DTEND:20251129T084000Z
SUMMARY:Иностранный язык: Русский язык как иностранный
LOCATION:ГЗ 229
END:VEVENT
BEGIN:VEVENT
UID:sx5e@192.168.245.71:3006
SEQUENCE:0
DTSTAMP:20260423T062504Z
DTSTART:20251129T060000Z
DTEND:20251129T084000Z
SUMMARY:Иностранный язык: Русский язык как иностранный
LOCATION:ГЗ 229
END:VEVENT
BEGIN:VEVENT
UID:sgbx@192.168.245.71:3006
SEQUENCE:0
DTSTAMP:20260423T062504Z
DTSTART:20251129T060000Z
DTEND:20251129T083000Z
SUMMARY:Иностранный язык: Русский язык как иностранный
LOCATION:ГЗ 229
END:VEVENT
BEGIN:VEVENT
UID:qpid@192.168.245.71:3006
SEQUENCE:0
DTSTAMP:20260423T062504Z
DTSTART:20251129T060000Z
DTEND:20251129T084000Z
SUMMARY:Иностранный язык: Русский язык как иностранный
LOCATION:ГЗ 229
END:VEVENT
END:VCALENDAR