BEGIN:VCALENDAR
VERSION:2.0
PRODID:-//spbstu.ru//ical//RU
NAME:Расписание
X-WR-CALNAME:Расписание
TIMEZONE-ID:Europe/Moscow
X-WR-TIMEZONE:Europe/Moscow
BEGIN:VEVENT
UID:gg4z@192.168.245.71:3006
SEQUENCE:0
DTSTAMP:20260421T221508Z
DTSTART:20260202T110000Z
DTEND:20260202T124000Z
SUMMARY:Практический курс первого иностранного языка
LOCATION:9 к. 133
END:VEVENT
BEGIN:VEVENT
UID:w498@192.168.245.71:3006
SEQUENCE:0
DTSTAMP:20260421T221508Z
DTSTART:20260202T130000Z
DTEND:20260202T144000Z
SUMMARY:Иностранный язык: Русский язык как иностранный
LOCATION:1 к. 420
END:VEVENT
BEGIN:VEVENT
UID:og9g@192.168.245.71:3006
SEQUENCE:0
DTSTAMP:20260421T221508Z
DTSTART:20260202T130000Z
DTEND:20260202T144000Z
SUMMARY:Иностранный язык: Русский язык как иностранный
LOCATION:1 к. 420
END:VEVENT
BEGIN:VEVENT
UID:j988@192.168.245.71:3006
SEQUENCE:0
DTSTAMP:20260421T221508Z
DTSTART:20260202T130000Z
DTEND:20260202T144000Z
SUMMARY:Иностранный язык: Русский язык как иностранный
LOCATION:1 к. 420
END:VEVENT
BEGIN:VEVENT
UID:cxym@192.168.245.71:3006
SEQUENCE:0
DTSTAMP:20260421T221508Z
DTSTART:20260204T070000Z
DTEND:20260204T084000Z
SUMMARY:Практический курс первого иностранного языка
LOCATION:9 к. 333
END:VEVENT
BEGIN:VEVENT
UID:solu@192.168.245.71:3006
SEQUENCE:0
DTSTAMP:20260421T221508Z
DTSTART:20260204T090000Z
DTEND:20260204T104000Z
SUMMARY:Практический курс первого иностранного языка
LOCATION:9 к. 333
END:VEVENT
BEGIN:VEVENT
UID:5ztg@192.168.245.71:3006
SEQUENCE:0
DTSTAMP:20260421T221508Z
DTSTART:20260205T070000Z
DTEND:20260205T084000Z
SUMMARY:Практический курс первого иностранного языка
LOCATION:9 к. 535
END:VEVENT
BEGIN:VEVENT
UID:0yt5@192.168.245.71:3006
SEQUENCE:0
DTSTAMP:20260421T221508Z
DTSTART:20260205T090000Z
DTEND:20260205T104000Z
SUMMARY:Практический курс первого иностранного языка
LOCATION:9 к. 241
END:VEVENT
BEGIN:VEVENT
UID:ry8w@192.168.245.71:3006
SEQUENCE:0
DTSTAMP:20260421T221508Z
DTSTART:20260205T110000Z
DTEND:20260205T124000Z
SUMMARY:Практический курс первого иностранного языка
LOCATION:9 к. 329
END:VEVENT
BEGIN:VEVENT
UID:egg2@192.168.245.71:3006
SEQUENCE:0
DTSTAMP:20260421T221508Z
DTSTART:20260205T130000Z
DTEND:20260205T144000Z
SUMMARY:Практический курс первого иностранного языка
LOCATION:9 к. 535
END:VEVENT
BEGIN:VEVENT
UID:0uum@192.168.245.71:3006
SEQUENCE:0
DTSTAMP:20260421T221508Z
DTSTART:20260206T070000Z
DTEND:20260206T084000Z
SUMMARY:Практический курс первого иностранного языка
LOCATION:9 к. 323
END:VEVENT
BEGIN:VEVENT
UID:2s1f@192.168.245.71:3006
SEQUENCE:0
DTSTAMP:20260421T221508Z
DTSTART:20260206T090000Z
DTEND:20260206T104000Z
SUMMARY:Практический курс первого иностранного языка
LOCATION:9 к. 323
END:VEVENT
END:VCALENDAR