BEGIN:VCALENDAR
VERSION:2.0
PRODID:-//spbstu.ru//ical//RU
NAME:Расписание
X-WR-CALNAME:Расписание
TIMEZONE-ID:Europe/Moscow
X-WR-TIMEZONE:Europe/Moscow
BEGIN:VEVENT
UID:kb10@192.168.245.71:3006
SEQUENCE:0
DTSTAMP:20260425T170059Z
DTSTART:20251120T070000Z
DTEND:20251120T084000Z
SUMMARY:Управление инвестиционно-строительными проектами
LOCATION:ГК-2 210
END:VEVENT
BEGIN:VEVENT
UID:3y4i@192.168.245.71:3006
SEQUENCE:0
DTSTAMP:20260425T170059Z
DTSTART:20251120T130000Z
DTEND:20251120T144000Z
SUMMARY:Организационно-технологическое моделирование в строительстве
LOCATION:ГК-2 513
END:VEVENT
END:VCALENDAR