BEGIN:VCALENDAR
VERSION:2.0
PRODID:-//spbstu.ru//ical//RU
NAME:Расписание
X-WR-CALNAME:Расписание
TIMEZONE-ID:Europe/Moscow
X-WR-TIMEZONE:Europe/Moscow
BEGIN:VEVENT
UID:fhmw@192.168.245.71:3006
SEQUENCE:0
DTSTAMP:20260421T140021Z
DTSTART:20260410T110000Z
DTEND:20260410T124000Z
SUMMARY:Управление данными
LOCATION:50 уч.к 1110
END:VEVENT
END:VCALENDAR