BEGIN:VCALENDAR
VERSION:2.0
PRODID:-//spbstu.ru//ical//RU
NAME:Расписание
X-WR-CALNAME:Расписание
TIMEZONE-ID:Europe/Moscow
X-WR-TIMEZONE:Europe/Moscow
BEGIN:VEVENT
UID:q4cq@192.168.245.71:3006
SEQUENCE:0
DTSTAMP:20260421T152253Z
DTSTART:20260420T070000Z
DTEND:20260420T084000Z
SUMMARY:Второй иностранный язык (китайский): базовая подготовка
LOCATION:50 уч.к 1427
END:VEVENT
BEGIN:VEVENT
UID:ju4m@192.168.245.71:3006
SEQUENCE:0
DTSTAMP:20260421T152253Z
DTSTART:20260420T110000Z
DTEND:20260420T124000Z
SUMMARY:Второй иностранный язык (китайский): базовая подготовка
LOCATION:50 уч.к 1426
END:VEVENT
BEGIN:VEVENT
UID:t6c2@192.168.245.71:3006
SEQUENCE:0
DTSTAMP:20260421T152253Z
DTSTART:20260420T130000Z
DTEND:20260420T140000Z
SUMMARY:Второй иностранный язык (китайский): базовая подготовка
LOCATION:50 уч.к 1426
END:VEVENT
BEGIN:VEVENT
UID:bp39@192.168.245.71:3006
SEQUENCE:0
DTSTAMP:20260421T152253Z
DTSTART:20260422T130000Z
DTEND:20260422T144000Z
SUMMARY:Второй иностранный язык (китайский): базовая подготовка
LOCATION:50 уч.к 1327
END:VEVENT
END:VCALENDAR