BEGIN:VCALENDAR
VERSION:2.0
PRODID:-//spbstu.ru//ical//RU
NAME:Расписание
X-WR-CALNAME:Расписание
TIMEZONE-ID:Europe/Moscow
X-WR-TIMEZONE:Europe/Moscow
BEGIN:VEVENT
UID:qpfj@192.168.245.71:3006
SEQUENCE:0
DTSTAMP:20260422T032128Z
DTSTART:20260513T090000Z
DTEND:20260513T104000Z
SUMMARY:Высшая математика
LOCATION:50 уч.к 1242
END:VEVENT
BEGIN:VEVENT
UID:olcx@192.168.245.71:3006
SEQUENCE:0
DTSTAMP:20260422T032128Z
DTSTART:20260513T110000Z
DTEND:20260513T124000Z
SUMMARY:Высшая математика
LOCATION:50 уч.к 1234
END:VEVENT
BEGIN:VEVENT
UID:5fbr@192.168.245.71:3006
SEQUENCE:0
DTSTAMP:20260422T032128Z
DTSTART:20260516T070000Z
DTEND:20260516T084000Z
SUMMARY:Высшая математика
LOCATION:50 уч.к 1232
END:VEVENT
BEGIN:VEVENT
UID:4t8h@192.168.245.71:3006
SEQUENCE:0
DTSTAMP:20260422T032128Z
DTSTART:20260516T090000Z
DTEND:20260516T104000Z
SUMMARY:Высшая математика
LOCATION:50 уч.к 1232
END:VEVENT
BEGIN:VEVENT
UID:jeiq@192.168.245.71:3006
SEQUENCE:0
DTSTAMP:20260422T032128Z
DTSTART:20260516T110000Z
DTEND:20260516T124000Z
SUMMARY:Высшая математика
LOCATION:50 уч.к 1232
END:VEVENT
END:VCALENDAR