BEGIN:VCALENDAR
VERSION:2.0
PRODID:-//spbstu.ru//ical//RU
NAME:Расписание
X-WR-CALNAME:Расписание
TIMEZONE-ID:Europe/Moscow
X-WR-TIMEZONE:Europe/Moscow
BEGIN:VEVENT
UID:xids@192.168.245.71:3006
SEQUENCE:0
DTSTAMP:20260423T175704Z
DTSTART:20260228T070000Z
DTEND:20260228T084000Z
SUMMARY:История России
LOCATION:50 уч.к 1233
END:VEVENT
BEGIN:VEVENT
UID:irj2@192.168.245.71:3006
SEQUENCE:0
DTSTAMP:20260423T175704Z
DTSTART:20260228T110000Z
DTEND:20260228T124000Z
SUMMARY:История России
LOCATION:50 уч.к 1219
END:VEVENT
BEGIN:VEVENT
UID:vrit@192.168.245.71:3006
SEQUENCE:0
DTSTAMP:20260423T175704Z
DTSTART:20260228T130000Z
DTEND:20260228T144000Z
SUMMARY:История России
LOCATION:50 уч.к 1219
END:VEVENT
END:VCALENDAR