BEGIN:VCALENDAR
VERSION:2.0
PRODID:-//spbstu.ru//ical//RU
NAME:Расписание
X-WR-CALNAME:Расписание
TIMEZONE-ID:Europe/Moscow
X-WR-TIMEZONE:Europe/Moscow
BEGIN:VEVENT
UID:5otr@192.168.245.71:3006
SEQUENCE:0
DTSTAMP:20260423T163550Z
DTSTART:20260601T070000Z
DTEND:20260601T094000Z
SUMMARY:История России
LOCATION:50 уч.к 1235
END:VEVENT
BEGIN:VEVENT
UID:sh9k@192.168.245.71:3006
SEQUENCE:0
DTSTAMP:20260423T163550Z
DTSTART:20260601T100000Z
DTEND:20260601T124000Z
SUMMARY:История России
LOCATION:50 уч.к 1235
END:VEVENT
BEGIN:VEVENT
UID:o016@192.168.245.71:3006
SEQUENCE:0
DTSTAMP:20260423T163550Z
DTSTART:20260601T130000Z
DTEND:20260601T145000Z
SUMMARY:История России
LOCATION:50 уч.к 1235
END:VEVENT
END:VCALENDAR