BEGIN:VCALENDAR
VERSION:2.0
PRODID:-//spbstu.ru//ical//RU
NAME:Расписание
X-WR-CALNAME:Расписание
TIMEZONE-ID:Europe/Moscow
X-WR-TIMEZONE:Europe/Moscow
BEGIN:VEVENT
UID:e730@192.168.245.71:3006
SEQUENCE:0
DTSTAMP:20260421T084524Z
DTSTART:20260304T130000Z
DTEND:20260304T144000Z
SUMMARY:Физика
LOCATION:ГЗ 186 А
END:VEVENT
BEGIN:VEVENT
UID:5pt9@192.168.245.71:3006
SEQUENCE:0
DTSTAMP:20260421T084524Z
DTSTART:20260304T150000Z
DTEND:20260304T170000Z
SUMMARY:Физика
LOCATION:ГЗ 280
END:VEVENT
BEGIN:VEVENT
UID:tvez@192.168.245.71:3006
SEQUENCE:0
DTSTAMP:20260421T084524Z
DTSTART:20260304T150000Z
DTEND:20260304T170000Z
SUMMARY:Физика
LOCATION:ГЗ 280
END:VEVENT
BEGIN:VEVENT
UID:rief@192.168.245.71:3006
SEQUENCE:0
DTSTAMP:20260421T084524Z
DTSTART:20260305T070000Z
DTEND:20260305T084000Z
SUMMARY:Физика
LOCATION:ГЗ 223
END:VEVENT
BEGIN:VEVENT
UID:acnh@192.168.245.71:3006
SEQUENCE:0
DTSTAMP:20260421T084524Z
DTSTART:20260305T090000Z
DTEND:20260305T104000Z
SUMMARY:Физика
LOCATION:ГЗ 223
END:VEVENT
BEGIN:VEVENT
UID:db7l@192.168.245.71:3006
SEQUENCE:0
DTSTAMP:20260421T084524Z
DTSTART:20260305T110000Z
DTEND:20260305T124000Z
SUMMARY:Физика
LOCATION:11 к. 324
END:VEVENT
BEGIN:VEVENT
UID:jfjg@192.168.245.71:3006
SEQUENCE:0
DTSTAMP:20260421T084524Z
DTSTART:20260305T130000Z
DTEND:20260305T144000Z
SUMMARY:Физика
LOCATION:ГЗ 155
END:VEVENT
BEGIN:VEVENT
UID:7ul9@192.168.245.71:3006
SEQUENCE:0
DTSTAMP:20260421T084524Z
DTSTART:20260306T090000Z
DTEND:20260306T104000Z
SUMMARY:Физика
LOCATION:ГЗ 155
END:VEVENT
BEGIN:VEVENT
UID:jk6u@192.168.245.71:3006
SEQUENCE:0
DTSTAMP:20260421T084524Z
DTSTART:20260306T110000Z
DTEND:20260306T124000Z
SUMMARY:Физика
LOCATION:ГЗ 186 А
END:VEVENT
BEGIN:VEVENT
UID:p6de@192.168.245.71:3006
SEQUENCE:0
DTSTAMP:20260421T084524Z
DTSTART:20260306T130000Z
DTEND:20260306T144000Z
SUMMARY:Физика
LOCATION:ГЗ 186 А
END:VEVENT
END:VCALENDAR