BEGIN:VCALENDAR
VERSION:2.0
PRODID:-//spbstu.ru//ical//RU
NAME:Расписание
X-WR-CALNAME:Расписание
TIMEZONE-ID:Europe/Moscow
X-WR-TIMEZONE:Europe/Moscow
BEGIN:VEVENT
UID:xgc9@192.168.245.71:3006
SEQUENCE:0
DTSTAMP:20260421T051445Z
DTSTART:20260311T130000Z
DTEND:20260311T144000Z
SUMMARY:Физика
LOCATION:ГЗ 186 А
END:VEVENT
BEGIN:VEVENT
UID:gua2@192.168.245.71:3006
SEQUENCE:0
DTSTAMP:20260421T051445Z
DTSTART:20260312T070000Z
DTEND:20260312T084000Z
SUMMARY:Физика
LOCATION:ГЗ 223
END:VEVENT
BEGIN:VEVENT
UID:fv90@192.168.245.71:3006
SEQUENCE:0
DTSTAMP:20260421T051445Z
DTSTART:20260312T090000Z
DTEND:20260312T104000Z
SUMMARY:Физика
LOCATION:ГЗ 223
END:VEVENT
BEGIN:VEVENT
UID:8i5w@192.168.245.71:3006
SEQUENCE:0
DTSTAMP:20260421T051445Z
DTSTART:20260312T110000Z
DTEND:20260312T124000Z
SUMMARY:Физика
LOCATION:11 к. 324
END:VEVENT
BEGIN:VEVENT
UID:vgfb@192.168.245.71:3006
SEQUENCE:0
DTSTAMP:20260421T051445Z
DTSTART:20260313T090000Z
DTEND:20260313T104000Z
SUMMARY:Физика
LOCATION:ГЗ 155
END:VEVENT
BEGIN:VEVENT
UID:muwo@192.168.245.71:3006
SEQUENCE:0
DTSTAMP:20260421T051445Z
DTSTART:20260313T110000Z
DTEND:20260313T124000Z
SUMMARY:Физика
LOCATION:ГЗ 186 А
END:VEVENT
BEGIN:VEVENT
UID:ntoa@192.168.245.71:3006
SEQUENCE:0
DTSTAMP:20260421T051445Z
DTSTART:20260313T130000Z
DTEND:20260313T144000Z
SUMMARY:Физика
LOCATION:ГЗ 186 А
END:VEVENT
END:VCALENDAR