BEGIN:VCALENDAR
VERSION:2.0
PRODID:-//spbstu.ru//ical//RU
NAME:Расписание
X-WR-CALNAME:Расписание
TIMEZONE-ID:Europe/Moscow
X-WR-TIMEZONE:Europe/Moscow
BEGIN:VEVENT
UID:atln@192.168.245.71:3006
SEQUENCE:0
DTSTAMP:20260421T040830Z
DTSTART:20260422T060000Z
DTEND:20260422T085000Z
SUMMARY:Электротехника
LOCATION:17 уч.к. 310
END:VEVENT
BEGIN:VEVENT
UID:4yb3@192.168.245.71:3006
SEQUENCE:0
DTSTAMP:20260421T040830Z
DTSTART:20260422T090000Z
DTEND:20260422T104000Z
SUMMARY:Электротехника
LOCATION:17 уч.к. 310
END:VEVENT
BEGIN:VEVENT
UID:yjr2@192.168.245.71:3006
SEQUENCE:0
DTSTAMP:20260421T040830Z
DTSTART:20260422T110000Z
DTEND:20260422T124000Z
SUMMARY:Электротехника
LOCATION:17 уч.к. 310
END:VEVENT
BEGIN:VEVENT
UID:3ujs@192.168.245.71:3006
SEQUENCE:0
DTSTAMP:20260421T040830Z
DTSTART:20260422T130000Z
DTEND:20260422T144000Z
SUMMARY:Электротехника
LOCATION:17 уч.к. 310
END:VEVENT
END:VCALENDAR