BEGIN:VCALENDAR
VERSION:2.0
PRODID:-//spbstu.ru//ical//RU
NAME:Расписание
X-WR-CALNAME:Расписание
TIMEZONE-ID:Europe/Moscow
X-WR-TIMEZONE:Europe/Moscow
BEGIN:VEVENT
UID:4juq@192.168.245.71:3006
SEQUENCE:0
DTSTAMP:20260423T191600Z
DTSTART:20251111T070000Z
DTEND:20251111T084000Z
SUMMARY:Государственная и региональная безопасность
LOCATION:50 уч.к 1231
END:VEVENT
BEGIN:VEVENT
UID:8q8g@192.168.245.71:3006
SEQUENCE:0
DTSTAMP:20260423T191600Z
DTSTART:20251111T090000Z
DTEND:20251111T104000Z
SUMMARY:Государственная и региональная безопасность
LOCATION:50 уч.к 1319
END:VEVENT
BEGIN:VEVENT
UID:jnys@192.168.245.71:3006
SEQUENCE:0
DTSTAMP:20260423T191600Z
DTSTART:20251111T130000Z
DTEND:20251111T144000Z
SUMMARY:Государственная и региональная безопасность
LOCATION:50 уч.к 1324
END:VEVENT
BEGIN:VEVENT
UID:ym4y@192.168.245.71:3006
SEQUENCE:0
DTSTAMP:20260423T191600Z
DTSTART:20251112T153000Z
DTEND:20251112T170000Z
SUMMARY:Государственное регулирование экономики
LOCATION:DL Дистанционно
END:VEVENT
END:VCALENDAR