BEGIN:VCALENDAR
VERSION:2.0
PRODID:-//spbstu.ru//ical//RU
NAME:Расписание
X-WR-CALNAME:Расписание
TIMEZONE-ID:Europe/Moscow
X-WR-TIMEZONE:Europe/Moscow
BEGIN:VEVENT
UID:8lg5@192.168.245.71:3006
SEQUENCE:0
DTSTAMP:20260422T102420Z
DTSTART:20260202T153000Z
DTEND:20260202T170000Z
SUMMARY:Цифровые технологии предоставления государственных и муниципальных
  услуг
LOCATION:DL Дистанционно
END:VEVENT
BEGIN:VEVENT
UID:9dmj@192.168.245.71:3006
SEQUENCE:0
DTSTAMP:20260422T102420Z
DTSTART:20260202T171500Z
DTEND:20260202T184500Z
SUMMARY:Цифровые технологии предоставления государственных и муниципальных
  услуг
LOCATION:DL Дистанционно
END:VEVENT
BEGIN:VEVENT
UID:fcdq@192.168.245.71:3006
SEQUENCE:0
DTSTAMP:20260422T102420Z
DTSTART:20260203T050000Z
DTEND:20260203T064000Z
SUMMARY:Цифровые технологии предоставления государственных и муниципальных
  услуг
LOCATION:50 уч.к 1249
END:VEVENT
BEGIN:VEVENT
UID:6hwz@192.168.245.71:3006
SEQUENCE:0
DTSTAMP:20260422T102420Z
DTSTART:20260203T070000Z
DTEND:20260203T084000Z
SUMMARY:Цифровые технологии предоставления государственных и муниципальных
  услуг
LOCATION:50 уч.к 1414
END:VEVENT
BEGIN:VEVENT
UID:1pe2@192.168.245.71:3006
SEQUENCE:0
DTSTAMP:20260422T102420Z
DTSTART:20260203T090000Z
DTEND:20260203T104000Z
SUMMARY:Цифровые технологии предоставления государственных и муниципальных
  услуг
LOCATION:50 уч.к 1414
END:VEVENT
BEGIN:VEVENT
UID:ipd5@192.168.245.71:3006
SEQUENCE:0
DTSTAMP:20260422T102420Z
DTSTART:20260203T153000Z
DTEND:20260203T170000Z
SUMMARY:Государственная и региональная безопасность
LOCATION:DL Дистанционно
END:VEVENT
BEGIN:VEVENT
UID:yr4o@192.168.245.71:3006
SEQUENCE:0
DTSTAMP:20260422T102420Z
DTSTART:20260203T171500Z
DTEND:20260203T184500Z
SUMMARY:Государственная и региональная безопасность
LOCATION:DL Дистанционно
END:VEVENT
BEGIN:VEVENT
UID:hrmr@192.168.245.71:3006
SEQUENCE:0
DTSTAMP:20260422T102420Z
DTSTART:20260205T070000Z
DTEND:20260205T084000Z
SUMMARY:Государственное регулирование экономики
LOCATION:50 уч.к 1324
END:VEVENT
BEGIN:VEVENT
UID:jq0m@192.168.245.71:3006
SEQUENCE:0
DTSTAMP:20260422T102420Z
DTSTART:20260205T090000Z
DTEND:20260205T104000Z
SUMMARY:Государственное регулирование экономики
LOCATION:50 уч.к 1328
END:VEVENT
BEGIN:VEVENT
UID:11uw@192.168.245.71:3006
SEQUENCE:0
DTSTAMP:20260422T102420Z
DTSTART:20260205T110000Z
DTEND:20260205T124000Z
SUMMARY:Государственное регулирование экономики
LOCATION:50 уч.к 1324
END:VEVENT
END:VCALENDAR