BEGIN:VCALENDAR
VERSION:2.0
PRODID:-//spbstu.ru//ical//RU
NAME:Расписание
X-WR-CALNAME:Расписание
TIMEZONE-ID:Europe/Moscow
X-WR-TIMEZONE:Europe/Moscow
BEGIN:VEVENT
UID:jkbp@192.168.245.71:3006
SEQUENCE:0
DTSTAMP:20260422T000126Z
DTSTART:20260518T090000Z
DTEND:20260518T104000Z
SUMMARY:Цифровые технологии предоставления государственных и муниципальных
  услуг
LOCATION:50 уч.к 1418
END:VEVENT
BEGIN:VEVENT
UID:p5c5@192.168.245.71:3006
SEQUENCE:0
DTSTAMP:20260422T000126Z
DTSTART:20260518T110000Z
DTEND:20260518T124000Z
SUMMARY:Цифровые технологии предоставления государственных и муниципальных
  услуг
LOCATION:50 уч.к 1422
END:VEVENT
BEGIN:VEVENT
UID:zi9h@192.168.245.71:3006
SEQUENCE:0
DTSTAMP:20260422T000126Z
DTSTART:20260520T170000Z
DTEND:20260520T184000Z
SUMMARY:Экономика общественного сектора
LOCATION:50 уч.к 1331
END:VEVENT
BEGIN:VEVENT
UID:38co@192.168.245.71:3006
SEQUENCE:0
DTSTAMP:20260422T000126Z
DTSTART:20260523T090000Z
DTEND:20260523T093000Z
SUMMARY:Экономика общественного сектора
LOCATION:50 уч.к 1422
END:VEVENT
BEGIN:VEVENT
UID:lg35@192.168.245.71:3006
SEQUENCE:0
DTSTAMP:20260422T000126Z
DTSTART:20260523T093100Z
DTEND:20260523T104000Z
SUMMARY:Экономика общественного сектора
LOCATION:50 уч.к 1422
END:VEVENT
END:VCALENDAR