BEGIN:VCALENDAR
VERSION:2.0
PRODID:-//spbstu.ru//ical//RU
NAME:Расписание
X-WR-CALNAME:Расписание
TIMEZONE-ID:Europe/Moscow
X-WR-TIMEZONE:Europe/Moscow
BEGIN:VEVENT
UID:x82w@192.168.245.71:3006
SEQUENCE:0
DTSTAMP:20260425T034958Z
DTSTART:20260207T060000Z
DTEND:20260207T064000Z
SUMMARY:Химия
LOCATION:Хим. к. 10
END:VEVENT
BEGIN:VEVENT
UID:4cy1@192.168.245.71:3006
SEQUENCE:0
DTSTAMP:20260425T034958Z
DTSTART:20260207T070000Z
DTEND:20260207T084000Z
SUMMARY:Химия
LOCATION:Хим. к. 10
END:VEVENT
BEGIN:VEVENT
UID:04fq@192.168.245.71:3006
SEQUENCE:0
DTSTAMP:20260425T034958Z
DTSTART:20260207T090000Z
DTEND:20260207T104000Z
SUMMARY:Химия
LOCATION:Хим. к. 10
END:VEVENT
BEGIN:VEVENT
UID:hngg@192.168.245.71:3006
SEQUENCE:0
DTSTAMP:20260425T034958Z
DTSTART:20260207T110000Z
DTEND:20260207T114000Z
SUMMARY:Химия
LOCATION:Хим. к. 10
END:VEVENT
END:VCALENDAR