BEGIN:VCALENDAR
VERSION:2.0
PRODID:-//spbstu.ru//ical//RU
NAME:Расписание
X-WR-CALNAME:Расписание
TIMEZONE-ID:Europe/Moscow
X-WR-TIMEZONE:Europe/Moscow
BEGIN:VEVENT
UID:5by6@192.168.245.71:3006
SEQUENCE:0
DTSTAMP:20260424T105407Z
DTSTART:20260321T060000Z
DTEND:20260321T064000Z
SUMMARY:Химия
LOCATION:Хим. к. 10
END:VEVENT
BEGIN:VEVENT
UID:hdct@192.168.245.71:3006
SEQUENCE:0
DTSTAMP:20260424T105407Z
DTSTART:20260321T070000Z
DTEND:20260321T084000Z
SUMMARY:Химия
LOCATION:Хим. к. 10
END:VEVENT
BEGIN:VEVENT
UID:0bvt@192.168.245.71:3006
SEQUENCE:0
DTSTAMP:20260424T105407Z
DTSTART:20260321T090000Z
DTEND:20260321T104000Z
SUMMARY:Химия
LOCATION:Хим. к. 10
END:VEVENT
BEGIN:VEVENT
UID:ffsu@192.168.245.71:3006
SEQUENCE:0
DTSTAMP:20260424T105407Z
DTSTART:20260321T110000Z
DTEND:20260321T114000Z
SUMMARY:Химия
LOCATION:Хим. к. 10
END:VEVENT
END:VCALENDAR