BEGIN:VCALENDAR
VERSION:2.0
PRODID:-//spbstu.ru//ical//RU
NAME:Расписание
X-WR-CALNAME:Расписание
TIMEZONE-ID:Europe/Moscow
X-WR-TIMEZONE:Europe/Moscow
BEGIN:VEVENT
UID:r0r4@192.168.245.71:3006
SEQUENCE:0
DTSTAMP:20260424T010309Z
DTSTART:20260216T110000Z
DTEND:20260216T124000Z
SUMMARY:Цифровые технологии на нефтегазовых предприятиях
LOCATION:50 уч.к 1424
END:VEVENT
BEGIN:VEVENT
UID:k554@192.168.245.71:3006
SEQUENCE:0
DTSTAMP:20260424T010309Z
DTSTART:20260216T130000Z
DTEND:20260216T144000Z
SUMMARY:Цифровые технологии на нефтегазовых предприятиях
LOCATION:50 уч.к 1210
END:VEVENT
END:VCALENDAR