BEGIN:VCALENDAR
VERSION:2.0
PRODID:-//spbstu.ru//ical//RU
NAME:Расписание
X-WR-CALNAME:Расписание
TIMEZONE-ID:Europe/Moscow
X-WR-TIMEZONE:Europe/Moscow
BEGIN:VEVENT
UID:g2gt@192.168.245.71:3006
SEQUENCE:0
DTSTAMP:20260423T164939Z
DTSTART:20260416T070000Z
DTEND:20260416T084000Z
SUMMARY:Вычислительная математика
LOCATION:11 к. 330
END:VEVENT
BEGIN:VEVENT
UID:ya0t@192.168.245.71:3006
SEQUENCE:0
DTSTAMP:20260423T164939Z
DTSTART:20260416T090000Z
DTEND:20260416T104000Z
SUMMARY:Вычислительная математика
LOCATION:11 к. 330
END:VEVENT
BEGIN:VEVENT
UID:0f43@192.168.245.71:3006
SEQUENCE:0
DTSTAMP:20260423T164939Z
DTSTART:20260416T110000Z
DTEND:20260416T124000Z
SUMMARY:Вычислительная математика
LOCATION:11 к. 330
END:VEVENT
END:VCALENDAR