BEGIN:VCALENDAR
VERSION:2.0
PRODID:-//spbstu.ru//ical//RU
NAME:Расписание
X-WR-CALNAME:Расписание
TIMEZONE-ID:Europe/Moscow
X-WR-TIMEZONE:Europe/Moscow
BEGIN:VEVENT
UID:dklb@192.168.245.71:3006
SEQUENCE:0
DTSTAMP:20260422T050510Z
DTSTART:20260310T090000Z
DTEND:20260310T104000Z
SUMMARY:Экономическая культура
LOCATION:1 к. 435
END:VEVENT
BEGIN:VEVENT
UID:ynj0@192.168.245.71:3006
SEQUENCE:0
DTSTAMP:20260422T050510Z
DTSTART:20260310T130000Z
DTEND:20260310T144000Z
SUMMARY:Экономическая культура
LOCATION:1 к. 412
END:VEVENT
BEGIN:VEVENT
UID:fg0j@192.168.245.71:3006
SEQUENCE:0
DTSTAMP:20260422T050510Z
DTSTART:20260311T070000Z
DTEND:20260311T084000Z
SUMMARY:Экономическая культура
LOCATION:1 к. 420
END:VEVENT
BEGIN:VEVENT
UID:oh2d@192.168.245.71:3006
SEQUENCE:0
DTSTAMP:20260422T050510Z
DTSTART:20260312T130000Z
DTEND:20260312T144000Z
SUMMARY:Экономическая культура
LOCATION:1 к. 425
END:VEVENT
BEGIN:VEVENT
UID:k444@192.168.245.71:3006
SEQUENCE:0
DTSTAMP:20260422T050510Z
DTSTART:20260313T090000Z
DTEND:20260313T104000Z
SUMMARY:Экономическая культура
LOCATION:Хим. к. 47
END:VEVENT
BEGIN:VEVENT
UID:lqfs@192.168.245.71:3006
SEQUENCE:0
DTSTAMP:20260422T050510Z
DTSTART:20260313T110000Z
DTEND:20260313T124000Z
SUMMARY:Экономическая культура
LOCATION:Хим. к. 47
END:VEVENT
BEGIN:VEVENT
UID:3m0x@192.168.245.71:3006
SEQUENCE:0
DTSTAMP:20260422T050510Z
DTSTART:20260314T070000Z
DTEND:20260314T084000Z
SUMMARY:Экономическая культура
LOCATION:1 к. 425
END:VEVENT
BEGIN:VEVENT
UID:fnz7@192.168.245.71:3006
SEQUENCE:0
DTSTAMP:20260422T050510Z
DTSTART:20260314T090000Z
DTEND:20260314T104000Z
SUMMARY:Экономическая культура
LOCATION:1 к. 425
END:VEVENT
BEGIN:VEVENT
UID:szu2@192.168.245.71:3006
SEQUENCE:0
DTSTAMP:20260422T050510Z
DTSTART:20260314T110000Z
DTEND:20260314T124000Z
SUMMARY:Экономическая культура
LOCATION:1 к. 425
END:VEVENT
END:VCALENDAR