BEGIN:VCALENDAR
VERSION:2.0
PRODID:-//spbstu.ru//ical//RU
NAME:Расписание
X-WR-CALNAME:Расписание
TIMEZONE-ID:Europe/Moscow
X-WR-TIMEZONE:Europe/Moscow
BEGIN:VEVENT
UID:45dr@192.168.245.71:3006
SEQUENCE:0
DTSTAMP:20260423T191421Z
DTSTART:20260203T153000Z
DTEND:20260203T171000Z
SUMMARY:Научно-исследовательская работа
LOCATION:ГК-2 407
END:VEVENT
END:VCALENDAR