BEGIN:VCALENDAR
VERSION:2.0
PRODID:-//spbstu.ru//ical//RU
NAME:Расписание
X-WR-CALNAME:Расписание
TIMEZONE-ID:Europe/Moscow
X-WR-TIMEZONE:Europe/Moscow
BEGIN:VEVENT
UID:sf9p@192.168.245.71:3006
SEQUENCE:0
DTSTAMP:20260425T224732Z
DTSTART:20251212T070000Z
DTEND:20251212T084000Z
SUMMARY:Применение робототехнических средств производственного и специальн
 ого назначения
LOCATION:1 к. кафедра Автоматы
END:VEVENT
BEGIN:VEVENT
UID:kapu@192.168.245.71:3006
SEQUENCE:0
DTSTAMP:20260425T224732Z
DTSTART:20251212T090000Z
DTEND:20251212T104000Z
SUMMARY:Основы организации производства. Проектирование коллаборативных пр
 оизводств
LOCATION:1 к. кафедра Автоматы
END:VEVENT
END:VCALENDAR