BEGIN:VCALENDAR
VERSION:2.0
PRODID:-//spbstu.ru//ical//RU
NAME:Расписание
X-WR-CALNAME:Расписание
TIMEZONE-ID:Europe/Moscow
X-WR-TIMEZONE:Europe/Moscow
BEGIN:VEVENT
UID:n08t@192.168.245.71:3006
SEQUENCE:0
DTSTAMP:20260421T095825Z
DTSTART:20251202T150000Z
DTEND:20251202T164000Z
SUMMARY:Цифровая трансформация торговой деятельности
LOCATION:50 уч.к 1338
END:VEVENT
BEGIN:VEVENT
UID:ppte@192.168.245.71:3006
SEQUENCE:0
DTSTAMP:20260421T095825Z
DTSTART:20251202T170000Z
DTEND:20251202T184000Z
SUMMARY:Цифровая трансформация торговой деятельности
LOCATION:50 уч.к 1338
END:VEVENT
BEGIN:VEVENT
UID:lfzj@192.168.245.71:3006
SEQUENCE:0
DTSTAMP:20260421T095825Z
DTSTART:20251202T170000Z
DTEND:20251202T184000Z
SUMMARY:Цифровая трансформация торговой деятельности
LOCATION:50 уч.к 1338
END:VEVENT
BEGIN:VEVENT
UID:n93x@192.168.245.71:3006
SEQUENCE:0
DTSTAMP:20260421T095825Z
DTSTART:20251204T150000Z
DTEND:20251204T164000Z
SUMMARY:Цифровые инструменты управления отношениями с клиентами
LOCATION:50 уч.к 1230
END:VEVENT
BEGIN:VEVENT
UID:s2ke@192.168.245.71:3006
SEQUENCE:0
DTSTAMP:20260421T095825Z
DTSTART:20251204T170000Z
DTEND:20251204T184000Z
SUMMARY:Цифровые инструменты управления отношениями с клиентами
LOCATION:50 уч.к 1230
END:VEVENT
BEGIN:VEVENT
UID:mx1i@192.168.245.71:3006
SEQUENCE:0
DTSTAMP:20260421T095825Z
DTSTART:20251205T110000Z
DTEND:20251205T124000Z
SUMMARY:Международный бизнес (на английском языке)
LOCATION:50 уч.к 1217
END:VEVENT
BEGIN:VEVENT
UID:qy4c@192.168.245.71:3006
SEQUENCE:0
DTSTAMP:20260421T095825Z
DTSTART:20251205T130000Z
DTEND:20251205T144000Z
SUMMARY:Международный бизнес (на английском языке)
LOCATION:50 уч.к 1217
END:VEVENT
BEGIN:VEVENT
UID:5rw7@192.168.245.71:3006
SEQUENCE:0
DTSTAMP:20260421T095825Z
DTSTART:20251205T150000Z
DTEND:20251205T164000Z
SUMMARY:Управление цифровым бизнесом в сфере торговли
LOCATION:50 уч.к 1230
END:VEVENT
BEGIN:VEVENT
UID:7dqw@192.168.245.71:3006
SEQUENCE:0
DTSTAMP:20260421T095825Z
DTSTART:20251205T170000Z
DTEND:20251205T184000Z
SUMMARY:Управление цифровым бизнесом в сфере торговли
LOCATION:50 уч.к 1230
END:VEVENT
END:VCALENDAR